Back to the "Multiple platform build/check report"
| Package 149/234 | Hostname | OS | Arch | BUILD | CHECK | BUILD BIN |
| OLINgui 1.12.0 Matthias Futschik Last Changed Date: 2007-10-02 17:41:09 -0700 Last Changed Rev: 27709 | lamb1 | Linux (SUSE 10.1) | x86_64 | OK | [ OK ] | |
| wellington | Linux (SUSE 9.2) | i686 | OK | OK | ||
| liverpool | Windows Server 2003 R2 (32-bit) | x64 | OK | OK | OK | |
| pitt | Mac OS X (10.4.10) | i386 | OK | OK | OK |
| Package: OLINgui |
| Version: 1.12.0 |
| Command: /home/biocbuild/bbs-2.1-bioc/R/bin/R CMD check OLINgui_1.12.0.tar.gz |
| RetCode: 0 |
| Time: 35.5 seconds |
| Status: OK |
| CheckDir: OLINgui.Rcheck |
| Warnings: 0 |
* checking for working latex ... OK * using log directory '/home/biocbuild/bbs-2.1-bioc/meat/OLINgui.Rcheck' * using R version 2.6.0 (2007-10-03) * checking for file 'OLINgui/DESCRIPTION' ... OK * this is package 'OLINgui' version '1.12.0' * checking package dependencies ... OK * checking if this is a source package ... OK * checking whether package 'OLINgui' can be installed ... OK * checking package directory ... OK * checking for portable file names ... OK * checking for sufficient/correct file permissions ... OK * checking DESCRIPTION meta-information ... OK * checking top-level files ... OK * checking index information ... OK * checking package subdirectories ... OK * checking R files for non-ASCII characters ... OK * checking R files for syntax errors ... OK * checking whether the package can be loaded ... OK * checking whether the package can be loaded with stated dependencies ... OK * checking for unstated dependencies in R code ... OK * checking S3 generic/method consistency ... OK * checking replacement functions ... OK * checking foreign function calls ... OK * checking R code for possible problems ... NOTE OLINgui : objectBrowser2 : finish: no visible binding for global variable 'h' OLINgui : browseFile2: no visible binding for global variable 'nenvtmp' OLINgui : anovapi: no visible binding for global variable 'x' OLINgui : anovapl: no visible binding for global variable 'x' OLINgui : anovaintensity: no visible binding for global variable 'x' OLINgui : anovaspa: no visible binding for global variable 'x' * checking Rd files ... OK * checking Rd cross-references ... OK * checking for missing documentation entries ... OK * checking for code/documentation mismatches ... OK * checking Rd \usage sections ... OK * creating OLINgui-Ex.R ... OK * checking examples ... OK * checking package vignettes in 'inst/doc' ... OK * creating OLINgui-manual.tex ... OK * checking OLINgui-manual.tex ... OK
OLINgui.Rcheck/00install.out:
* Installing *source* package 'OLINgui' ...
** R
** inst
** preparing package for lazy loading
Loading required package: OLIN
Loading required package: locfit
Loading required package: akima
Loading required package: lattice
locfit 1.5-3 2006-04-06
Loading required package: Biobase
Loading required package: tools
Welcome to Bioconductor
Vignettes contain introductory material. To view, type
'openVignette()'. To cite Bioconductor, see
'citation("Biobase")' and for packages 'citation(pkgname)'.
Loading required package: marray
Loading required package: limma
** help
Note: unmatched right brace in 'OLINgui' on or after line 30
>>> Building/Updating help pages for package 'OLINgui'
Formats: text html latex example
OLINgui text html latex
** building package indices ...
* DONE (OLINgui)