Back to the "Multiple platform build/check report"
| Package 71/234 | Hostname | OS | Arch | BUILD | CHECK | BUILD BIN |
| fdrame 1.10.0 Effi Kenigsberg Last Changed Date: 2007-10-02 17:41:09 -0700 Last Changed Rev: 27709 | lamb1 | Linux (SUSE 10.1) | x86_64 | OK | WARNINGS | |
| wellington | Linux (SUSE 9.2) | i686 | OK | WARNINGS | ||
| liverpool | Windows Server 2003 R2 (32-bit) | x64 | OK | WARNINGS | [ OK ] | |
| pitt | Mac OS X (10.4.10) | i386 | OK | WARNINGS | OK |
| Package: fdrame |
| Version: 1.10.0 |
| Command: E:\biocbld\bbs-2.1-bioc\R\bin\R.exe CMD INSTALL --build --library=fdrame.buildbin-libdir fdrame_1.10.0.tar.gz |
| RetCode: 0 |
| Time: 22.4 seconds |
| Status: OK |
| PackageFile: fdrame_1.10.0.zip |
installing R.css in E:/biocbld/bbs-2.1-bioc/meat/fdrame.buildbin-libdir
Using auto-selected zip options 'fdrame-ZIPDATA=zip'
---------- Making package fdrame ------------
adding build stamp to DESCRIPTION
making DLL ...
making fdr.d from fdr.c
gcc-sjlj -std=gnu99 -IE:/biocbld/bbs-2.1-bioc/R/include -Wall -O3 -c fdr.c -o fdr.o
windres --preprocessor="gcc-sjlj -E -xc -DRC_INVOKED" -I E:/biocbld/bbs-2.1-bioc/R/include -i fdrame_res.rc -o fdrame_res.o
gcc-sjlj -std=gnu99 -shared -s -o fdrame.dll fdrame.def fdr.o fdrame_res.o -LE:/biocbld/bbs-2.1-bioc/R/bin -lR
... DLL made
installing DLL
installing R files
installing inst files
installing data files
installing man source files
installing indices
zipping data
installing help
>>> Building/Updating help pages for package 'fdrame'
Formats: text html latex example chm
design text html latex example chm
exp.arr text html latex example chm
fdr-internal text html latex chm
fdrgui text html latex example chm
fdrma text html latex example chm
Microsoft HTML Help Compiler 4.74.8702
Compiling e:\biocbld\bbs-2.1-bioc\meat\R.INSTALL.3924\fdrame\chm\fdrame.chm
Compile time: 0 minutes, 0 seconds
6 Topics
9 Local links
0 Internet links
1 Graphic
Created e:\biocbld\bbs-2.1-bioc\meat\R.INSTALL.3924\fdrame\chm\fdrame.chm, 21,635 bytes
Compression decreased file by 507 bytes.
preparing package fdrame for lazy loading
adding MD5 sums
packaged installation of package 'fdrame' as fdrame_1.10.0.zip
* DONE (fdrame)