Back to the "Multiple platform build/check report"
| Package 203/234 | Hostname | OS | Arch | BUILD | CHECK | BUILD BIN | 
| SemSim 1.4.0 Xiang Guo Last Changed Date: 2007-10-02 17:41:09 -0700 Last Changed Rev: 27709  | lamb1 | Linux (SUSE 10.1) | x86_64 | OK | OK | |
| wellington | Linux (SUSE 9.2) | i686 | OK | OK | ||
| liverpool | Windows Server 2003 R2 (32-bit) | x64 | OK | OK | [ OK ] | |
| pitt | Mac OS X (10.4.10) | i386 | OK | OK | OK | 
| Package: SemSim | 
| Version: 1.4.0 | 
| Command: E:\biocbld\bbs-2.1-bioc\R\bin\R.exe CMD INSTALL --build --library=SemSim.buildbin-libdir SemSim_1.4.0.tar.gz | 
| RetCode: 0 | 
| Time: 15.9 seconds | 
| Status: OK | 
| PackageFile: SemSim_1.4.0.zip | 
installing R.css in E:/biocbld/bbs-2.1-bioc/meat/SemSim.buildbin-libdir
Using auto-selected zip options 'SemSim-ZIPDATA=zip'
---------- Making package SemSim ------------
  adding build stamp to DESCRIPTION
  installing R files
  installing inst files
  installing data files
  installing man source files
  installing indices
  zipping data
  installing help
 >>> Building/Updating help pages for package 'SemSim'
     Formats: text html latex example chm 
  GOCount                           text    html    latex           chm
  Schreiber                         text    html    latex   example chm
  SemSim-internal                   text    html    latex           chm
  SemSim-package                    text    html    latex           chm
  geneSim                           text    html    latex   example chm
  mgeneSim                          text    html    latex   example chm
  mtermSim                          text    html    latex   example chm
  termSim                           text    html    latex   example chm
Microsoft HTML Help Compiler 4.74.8702
Compiling e:\biocbld\bbs-2.1-bioc\meat\R.INSTALL.3180\SemSim\chm\SemSim.chm
Compile time: 0 minutes, 0 seconds
9	Topics
25	Local links
0	Internet links
1	Graphic
Created e:\biocbld\bbs-2.1-bioc\meat\R.INSTALL.3180\SemSim\chm\SemSim.chm, 23,431 bytes
Compression decreased file by 1,237 bytes.
  adding MD5 sums
packaged installation of package 'SemSim' as SemSim_1.4.0.zip
* DONE (SemSim)