Back to the "Multiple platform build/check report"
| Package 208/234 | Hostname | OS | Arch | BUILD | CHECK | BUILD BIN | 
| simulatorAPMS 1.10.0 Tony Chiang Last Changed Date: 2007-10-02 17:41:09 -0700 Last Changed Rev: 27709  | lamb1 | Linux (SUSE 10.1) | x86_64 | OK | OK | |
| wellington | Linux (SUSE 9.2) | i686 | OK | OK | ||
| liverpool | Windows Server 2003 R2 (32-bit) | x64 | OK | OK | [ OK ] | |
| pitt | Mac OS X (10.4.10) | i386 | OK | OK | OK | 
| Package: simulatorAPMS | 
| Version: 1.10.0 | 
| Command: E:\biocbld\bbs-2.1-bioc\R\bin\R.exe CMD INSTALL --build --library=simulatorAPMS.buildbin-libdir simulatorAPMS_1.10.0.tar.gz | 
| RetCode: 0 | 
| Time: 18.1 seconds | 
| Status: OK | 
| PackageFile: simulatorAPMS_1.10.0.zip | 
installing R.css in E:/biocbld/bbs-2.1-bioc/meat/simulatorAPMS.buildbin-libdir
Using auto-selected zip options 'simulatorAPMS-ZIPDATA=zip simulatorAPMS-HELP=ziponly'
---------- Making package simulatorAPMS ------------
  adding build stamp to DESCRIPTION
  installing R files
  installing inst files
  installing data files
  installing man source files
  installing indices
  zipping data
  installing help
Note: unmatched right brace in 'filteredProt' on or after line 14
Note: unmatched right brace in 'filteredProt.Rd' on or after line 14
 >>> Building/Updating help pages for package 'simulatorAPMS'
     Formats: text html latex example chm 
  APComEX                           text    html    latex   example chm
  PPIEX                             text    html    latex   example chm
  TSNMatrix                         text    html    latex   example chm
  applyDeformationError             text    html    latex   example chm
  applyFNErrors                     text    html    latex   example chm
  applyFPErrors                     text    html    latex   example chm
  applyStickyError                  text    html    latex   example chm
  compIndep                         text    html    latex   example chm
  filteredProt                      text    html    latex   example chm
  fullSimEX                         text    html    latex   example chm
  missedProtEX                      text    html    latex   example chm
  missedProtHMSPCI                  text    html    latex   example chm
  recordSticky                      text    html    latex   example chm
  runAPComplex                      text    html    latex   example chm
  runCompIndep                      text    html    latex   example chm
  runSimEX                          text    html    latex   example chm
  runSimulators                     text    html    latex   example chm
  simEX                             text    html    latex   example chm
  simulator                         text    html    latex   example chm
  simulatorD                        text    html    latex   example chm
  simulatorS                        text    html    latex   example chm
  vBaits                            text    html    latex   example chm
  vBaitsEX                          text    html    latex   example chm
  vDeformEX                         text    html    latex   example chm
  vDeformed                         text    html    latex   example chm
  vDeformedEX                       text    html    latex   example chm
  vStickyEX                         text    html    latex   example chm
  zipping help files
Microsoft HTML Help Compiler 4.74.8702
Compiling e:\biocbld\bbs-2.1-bioc\meat\R.INSTALL.4844\simulatorAPMS\chm\simulatorAPMS.chm
Compile time: 0 minutes, 0 seconds
28	Topics
78	Local links
0	Internet links
1	Graphic
Created e:\biocbld\bbs-2.1-bioc\meat\R.INSTALL.4844\simulatorAPMS\chm\simulatorAPMS.chm, 36,774 bytes
Compression decreased file by 30,306 bytes.
  adding MD5 sums
packaged installation of package 'simulatorAPMS' as simulatorAPMS_1.10.0.zip
* DONE (simulatorAPMS)