Back to the "Multiple platform build/check report"
| Package 218/234 | Hostname | OS | Arch | BUILD | CHECK | BUILD BIN | 
| sscore 1.10.0 Richard Kennedy Last Changed Date: 2007-10-02 17:41:09 -0700 Last Changed Rev: 27709  | lamb1 | Linux (SUSE 10.1) | x86_64 | OK | OK | |
| wellington | Linux (SUSE 9.2) | i686 | OK | OK | ||
| liverpool | Windows Server 2003 R2 (32-bit) | x64 | [ OK ] | OK | OK | |
| pitt | Mac OS X (10.4.10) | i386 | OK | OK | OK | 
| Package: sscore | 
| Version: 1.10.0 | 
| Command: E:\biocbld\bbs-2.1-bioc\R\bin\R.exe CMD build sscore | 
| RetCode: 0 | 
| Time: 35.3 seconds | 
| Status: OK | 
| PackageFile: sscore_1.10.0.tar.gz | 
* checking for file 'sscore/DESCRIPTION' ... OK
* preparing 'sscore':
* checking DESCRIPTION meta-information ... OK
* checking whether 'INDEX' is up-to-date ... NO
* use '--force' to overwrite the existing 'INDEX'
* installing the package to re-build vignettes
installing R.css in E:/biocbld/bbs-2.1-bioc/tmpdir/Rinst556063592
---------- Making package sscore ------------
  adding build stamp to DESCRIPTION
  installing R files
  installing inst files
  installing man source files
  installing indices
  installing help
 >>> Building/Updating help pages for package 'sscore'
     Formats: text html latex example chm 
  OneStepBiweightAlgorithm          text    html    latex           chm
  SScore                            text    html    latex   example chm
  SScoreBatch                       text    html    latex   example chm
  computeAffxRawQ                   text    html    latex           chm
  computeAffxSFandSDT               text    html    latex   example chm
  computeOutlier                    text    html    latex   example chm
  computeRawQ                       text    html    latex           chm
  computeSFandSDT                   text    html    latex   example chm
  computeZoneIInfo                  text    html    latex           chm
  computeZonenoise                  text    html    latex           chm
  trimMean                          text    html    latex           chm
Microsoft HTML Help Compiler 4.74.8702
Compiling e:\biocbld\bbs-2.1-bioc\meat\sscore\chm\sscore.chm
Compile time: 0 minutes, 1 second
12	Topics
28	Local links
16	Internet links
1	Graphic
Created e:\biocbld\bbs-2.1-bioc\meat\sscore\chm\sscore.chm, 28,767 bytes
Compression decreased file by 17,740 bytes.
  preparing package sscore for lazy loading
Loading required package: affy
Loading required package: Biobase
Loading required package: tools
Welcome to Bioconductor
  Vignettes contain introductory material. To view, type
  'openVignette()'. To cite Bioconductor, see
  'citation("Biobase")' and for packages 'citation(pkgname)'.
Loading required package: affyio
Loading required package: preprocessCore
  adding MD5 sums
* DONE (sscore)
* creating vignettes ... OK
* removing junk files
* checking for LF line-endings in source and make files
* checking for empty or unneeded directories
* building 'sscore_1.10.0.tar.gz'