Back to the "Multiple platform build/check report"
| Package 147/234 | Hostname | OS | Arch | BUILD | CHECK | BUILD BIN | 
| oligoClasses 1.0.1 Benilton Carvalho Last Changed Date: 2007-10-07 09:22:26 -0700 Last Changed Rev: 27831  | lamb1 | Linux (SUSE 10.1) | x86_64 | OK | OK | |
| wellington | Linux (SUSE 9.2) | i686 | OK | OK | ||
| liverpool | Windows Server 2003 R2 (32-bit) | x64 | OK | WARNINGS | [ OK ] | |
| pitt | Mac OS X (10.4.10) | i386 | OK | OK | OK | 
| Package: oligoClasses | 
| Version: 1.0.1 | 
| Command: E:\biocbld\bbs-2.1-bioc\R\bin\R.exe CMD INSTALL --build --library=oligoClasses.buildbin-libdir oligoClasses_1.0.1.tar.gz | 
| RetCode: 0 | 
| Time: 18.2 seconds | 
| Status: OK | 
| PackageFile: oligoClasses_1.0.1.zip | 
installing R.css in E:/biocbld/bbs-2.1-bioc/meat/oligoClasses.buildbin-libdir
Using auto-selected zip options ''
---------- Making package oligoClasses ------------
  adding build stamp to DESCRIPTION
  installing NAMESPACE file and metadata
  installing R files
  preparing package oligoClasses for lazy loading
Loading required package: Biobase
Loading required package: tools
Welcome to Bioconductor
  Vignettes contain introductory material. To view, type
  'openVignette()'. To cite Bioconductor, see
  'citation("Biobase")' and for packages 'citation(pkgname)'.
  installing man source files
  installing indices
  installing help
 >>> Building/Updating help pages for package 'oligoClasses'
     Formats: text html latex example chm 
  DBPDInfo-class                    text    html    latex   example chm
  FeatureSet-class                  text    html    latex           chm
  FeatureSetExtensions-class        text    html    latex   example chm
  PDInfo-class                      text    html    latex   example chm
  QuantificationSet-class           text    html    latex   example chm
  SnpCallSet-methods                text    html    latex   example chm
  SnpCallSetPlus-class              text    html    latex   example chm
     missing link(s):  eSet-class VersionedBiobase-class Versioned-class eSet-class VersionedBiobase-class Versioned-class eSet-class VersionedBiobase-class Versioned-class
  SnpCnvFeatureSet-class            text    html    latex   example chm
  SnpCnvQSet-class                  text    html    latex   example chm
  SnpCopyNumberSet-methods          text    html    latex   example chm
  SnpLevelSet-class                 text    html    latex           chm
  SnpQSet-class                     text    html    latex   example chm
  SnpSetExtensions-class            text    html    latex   example chm
  oligoSnpSet-methods               text    html    latex           chm
  platformDesign-class              text    html    latex   example chm
Microsoft HTML Help Compiler 4.74.8702
Compiling e:\biocbld\bbs-2.1-bioc\meat\R.INSTALL.1564\oligoClasses\chm\oligoClasses.chm
Compile time: 0 minutes, 1 second
16	Topics
87	Local links
0	Internet links
1	Graphic
Created e:\biocbld\bbs-2.1-bioc\meat\R.INSTALL.1564\oligoClasses\chm\oligoClasses.chm, 24,929 bytes
Compression decreased file by 37,704 bytes.
  adding MD5 sums
packaged installation of package 'oligoClasses' as oligoClasses_1.0.1.zip
* DONE (oligoClasses)