Back to the "Multiple platform build/check report"
| Package 147/234 | Hostname | OS | Arch | BUILD | CHECK | BUILD BIN |
| oligoClasses 1.0.1 Benilton Carvalho Last Changed Date: 2007-10-07 09:22:26 -0700 Last Changed Rev: 27831 | lamb1 | Linux (SUSE 10.1) | x86_64 | OK | OK | |
| wellington | Linux (SUSE 9.2) | i686 | OK | OK | ||
| liverpool | Windows Server 2003 R2 (32-bit) | x64 | OK | WARNINGS | OK | |
| pitt | Mac OS X (10.4.10) | i386 | OK | OK | [ OK ] |
| Package: oligoClasses |
| Version: 1.0.1 |
| Command: /Users/biocbuild/BBS/utils/build-universal.sh oligoClasses_1.0.1.tar.gz /Library/Frameworks/R.framework/Resources/bin/R oligoClasses.buildbin-libdir |
| RetCode: 0 |
| Time: 6.7 seconds |
| Status: OK |
| PackageFile: oligoClasses_1.0.1.tgz |
INSTALLATION WITH 'R CMD INSTALL oligoClasses_1.0.1.tar.gz'
* Installing to library 'oligoClasses.buildbin-libdir'
* Installing *source* package 'oligoClasses' ...
** R
** preparing package for lazy loading
Loading required package: Biobase
Loading required package: tools
Welcome to Bioconductor
Vignettes contain introductory material. To view, type
'openVignette()'. To cite Bioconductor, see
'citation("Biobase")' and for packages 'citation(pkgname)'.
** help
>>> Building/Updating help pages for package 'oligoClasses'
Formats: text html latex example
DBPDInfo-class text html latex example
FeatureSet-class text html latex
FeatureSetExtensions-class text html latex example
PDInfo-class text html latex example
QuantificationSet-class text html latex example
SnpCallSet-methods text html latex example
SnpCallSetPlus-class text html latex example
SnpCnvFeatureSet-class text html latex example
SnpCnvQSet-class text html latex example
SnpCopyNumberSet-methods text html latex example
SnpLevelSet-class text html latex
SnpQSet-class text html latex example
SnpSetExtensions-class text html latex example
oligoSnpSet-methods text html latex
platformDesign-class text html latex example
** building package indices ...
* DONE (oligoClasses)