Back to the "Multiple platform build/check report"
| Package 147/234 | Hostname | OS | Arch | BUILD | CHECK | BUILD BIN | 
| oligoClasses 1.0.1 Benilton Carvalho Last Changed Date: 2007-10-07 09:22:26 -0700 Last Changed Rev: 27831  | lamb1 | Linux (SUSE 10.1) | x86_64 | OK | OK | |
| wellington | Linux (SUSE 9.2) | i686 | OK | OK | ||
| liverpool | Windows Server 2003 R2 (32-bit) | x64 | [ OK ] | WARNINGS | OK | |
| pitt | Mac OS X (10.4.10) | i386 | OK | OK | OK | 
| Package: oligoClasses | 
| Version: 1.0.1 | 
| Command: E:\biocbld\bbs-2.1-bioc\R\bin\R.exe CMD build oligoClasses | 
| RetCode: 0 | 
| Time: 2.8 seconds | 
| Status: OK | 
| PackageFile: oligoClasses_1.0.1.tar.gz | 
* checking for file 'oligoClasses/DESCRIPTION' ... OK * preparing 'oligoClasses': * checking DESCRIPTION meta-information ... OK * removing junk files * checking for LF line-endings in source and make files * checking for empty or unneeded directories * building 'oligoClasses_1.0.1.tar.gz'