Back to the "Multiple platform build/check report"
| Package 20/234 | Hostname | OS | Arch | BUILD | CHECK | BUILD BIN | 
| annotationTools 1.8.0 Alexandre Kuhn Last Changed Date: 2007-10-02 17:41:09 -0700 Last Changed Rev: 27709  | lamb1 | Linux (SUSE 10.1) | x86_64 | OK | OK | |
| wellington | Linux (SUSE 9.2) | i686 | OK | OK | ||
| liverpool | Windows Server 2003 R2 (32-bit) | x64 | OK | OK | OK | |
| pitt | Mac OS X (10.4.10) | i386 | [ OK ] | OK | OK | 
| Package: annotationTools | 
| Version: 1.8.0 | 
| Command: /Library/Frameworks/R.framework/Resources/bin/R CMD build annotationTools | 
| RetCode: 0 | 
| Time: 9.6 seconds | 
| Status: OK | 
| PackageFile: annotationTools_1.8.0.tar.gz | 
* checking for file 'annotationTools/DESCRIPTION' ... OK
* preparing 'annotationTools':
* checking DESCRIPTION meta-information ... OK
* installing the package to re-build vignettes
* Installing *source* package 'annotationTools' ...
** R
** data
** inst
** help
 >>> Building/Updating help pages for package 'annotationTools'
     Formats: text html latex example 
  HG-U133_Plus_2_annot_part         text    html    latex
  HG-U133_Plus_2_ortholog_part      text    html    latex
  Mouse430_2_annot_part             text    html    latex
  annot_HGU133A                     text    html    latex
  compactList                       text    html    latex   example
  getANNOTATION                     text    html    latex   example
  getGENEID                         text    html    latex   example
  getGENEONTOLOGY                   text    html    latex   example
  getGENESYMBOL                     text    html    latex   example
  getGENETITLE                      text    html    latex   example
  getHOMOLOG                        text    html    latex   example
  getMULTIANNOTATION                text    html    latex   example
  getOrthologousProbesets           text    html    latex   example
  getPROBESET                       text    html    latex   example
  homologene_part                   text    html    latex
  listToCharacterVector             text    html    latex   example
  ortho                             text    html    latex
  ps2ps                             text    html    latex   example
  table_human                       text    html    latex
  table_mouse                       text    html    latex
** building package indices ...
* DONE (annotationTools)
* creating vignettes ... OK
* removing junk files
* checking for LF line-endings in source and make files
* checking for empty or unneeded directories
* building 'annotationTools_1.8.0.tar.gz'