Back to the "Multiple platform build/check report"
| Package 73/234 | Hostname | OS | Arch | BUILD | CHECK | BUILD BIN | 
| flowViz 1.2.0 Florian Hahne Last Changed Date: 2007-10-02 17:41:09 -0700 Last Changed Rev: 27709  | lamb1 | Linux (SUSE 10.1) | x86_64 | OK | OK | |
| wellington | Linux (SUSE 9.2) | i686 | OK | OK | ||
| liverpool | Windows Server 2003 R2 (32-bit) | x64 | OK | OK | OK | |
| pitt | Mac OS X (10.4.10) | i386 | OK | OK | [ OK ] | 
| Package: flowViz | 
| Version: 1.2.0 | 
| Command: /Users/biocbuild/BBS/utils/build-universal.sh flowViz_1.2.0.tar.gz /Library/Frameworks/R.framework/Resources/bin/R flowViz.buildbin-libdir | 
| RetCode: 0 | 
| Time: 11.8 seconds | 
| Status: OK | 
| PackageFile: flowViz_1.2.0.tgz | 
                    INSTALLATION WITH 'R CMD INSTALL flowViz_1.2.0.tar.gz'
* Installing to library 'flowViz.buildbin-libdir'
* Installing *source* package 'flowViz' ...
** R
** inst
** preparing package for lazy loading
Loading required package: flowCore
Loading required package: Biobase
Loading required package: tools
Welcome to Bioconductor
  Vignettes contain introductory material. To view, type
  'openVignette()'. To cite Bioconductor, see
  'citation("Biobase")' and for packages 'citation(pkgname)'.
Loading required package: rrcov
Loading required package: robustbase
Scalable Robust Estimators with High Breakdown Point (version 0.4-01)
KernSmooth 2.22 installed
Copyright M. P. Wand 1997
Loading required package: geneplotter
Loading required package: annotate
Loading required package: AnnotationDbi
Loading required package: DBI
Loading required package: RSQLite
Loading required package: xtable
Loading required package: lattice
Loading required package: MASS
Creating a new generic function for "ecdfplot" in "flowViz"
Creating a new generic function for "densityplot" in "flowViz"
Creating a new generic function for "levelplot" in "flowViz"
Creating a new generic function for "qqmath" in "flowViz"
Creating a new generic function for "splom" in "flowViz"
Creating a new generic function for "parallel" in "flowViz"
Creating a new generic function for "xyplot" in "flowViz"
** help
 >>> Building/Updating help pages for package 'flowViz'
     Formats: text html latex example 
  ecdfplot                          text    html    latex   example
  flowPlot                          text    html    latex   example
  flowViz-package                   text    html    latex   example
  latticeMethods-flowSet            text    html    latex   example
  xyplot                            text    html    latex   example
** building package indices ...
* DONE (flowViz)