Back to the "Multiple platform build/check report"
| Package 49/234 | Hostname | OS | Arch | BUILD | CHECK | BUILD BIN |
| clusterStab 1.10.0 James W. MacDonald Last Changed Date: 2007-10-02 17:41:09 -0700 Last Changed Rev: 27709 | lamb1 | Linux (SUSE 10.1) | x86_64 | OK | OK | |
| wellington | Linux (SUSE 9.2) | i686 | OK | OK | ||
| liverpool | Windows Server 2003 R2 (32-bit) | x64 | [ OK ] | OK | OK | |
| pitt | Mac OS X (10.4.10) | i386 | OK | OK | OK |
| Package: clusterStab |
| Version: 1.10.0 |
| Command: E:\biocbld\bbs-2.1-bioc\R\bin\R.exe CMD build clusterStab |
| RetCode: 0 |
| Time: 27.5 seconds |
| Status: OK |
| PackageFile: clusterStab_1.10.0.tar.gz |
* checking for file 'clusterStab/DESCRIPTION' ... OK
* preparing 'clusterStab':
* checking DESCRIPTION meta-information ... OK
* installing the package to re-build vignettes
installing R.css in E:/biocbld/bbs-2.1-bioc/tmpdir/Rinst41296432
---------- Making package clusterStab ------------
adding build stamp to DESCRIPTION
installing R files
installing inst files
preparing package clusterStab for lazy loading
Loading required package: Biobase
Loading required package: tools
Welcome to Bioconductor
Vignettes contain introductory material. To view, type
'openVignette()'. To cite Bioconductor, see
'citation("Biobase")' and for packages 'citation(pkgname)'.
installing man source files
installing indices
installing help
>>> Building/Updating help pages for package 'clusterStab'
Formats: text html latex example chm
benhur-class text html latex chm
benhur text html latex example chm
clusterComp-class text html latex chm
clusterComp text html latex example chm
Microsoft HTML Help Compiler 4.74.8702
Compiling e:\biocbld\bbs-2.1-bioc\meat\clusterStab\chm\clusterStab.chm
Compile time: 0 minutes, 1 second
5 Topics
22 Local links
0 Internet links
1 Graphic
Created e:\biocbld\bbs-2.1-bioc\meat\clusterStab\chm\clusterStab.chm, 23,098 bytes
Compression decreased file by 1,935 bytes.
adding MD5 sums
* DONE (clusterStab)
* creating vignettes ... OK
* removing junk files
* checking for LF line-endings in source and make files
* checking for empty or unneeded directories
* building 'clusterStab_1.10.0.tar.gz'