Back to the "Multiple platform build/check report"
| Package 93/234 | Hostname | OS | Arch | BUILD | CHECK | BUILD BIN | 
| goTools 1.10.0 Agnes Paquet Last Changed Date: 2007-10-02 17:41:09 -0700 Last Changed Rev: 27709  | lamb1 | Linux (SUSE 10.1) | x86_64 | OK | TIMEOUT | |
| wellington | Linux (SUSE 9.2) | i686 | OK | OK | ||
| liverpool | Windows Server 2003 R2 (32-bit) | x64 | OK | [ OK ] | OK | |
| pitt | Mac OS X (10.4.10) | i386 | OK | OK | OK | 
| Package: goTools | 
| Version: 1.10.0 | 
| Command: E:\biocbld\bbs-2.1-bioc\R\bin\R.exe CMD check goTools_1.10.0.tar.gz | 
| RetCode: 0 | 
| Time: 187.3 seconds | 
| Status: OK | 
| CheckDir: goTools.Rcheck | 
| Warnings: 0 | 
* checking for working latex ... OK * using log directory 'E:/biocbld/bbs-2.1-bioc/meat/goTools.Rcheck' * using R version 2.6.0 (2007-10-03) * checking for file 'goTools/DESCRIPTION' ... OK * this is package 'goTools' version '1.10.0' * checking package dependencies ... OK * checking if this is a source package ... OK * checking whether package 'goTools' can be installed ... OK * checking package directory ... OK * checking for portable file names ... OK * checking DESCRIPTION meta-information ... OK * checking top-level files ... OK * checking index information ... OK * checking package subdirectories ... OK * checking R files for non-ASCII characters ... OK * checking R files for syntax errors ... OK * checking whether the package can be loaded ... OK * checking whether the package can be loaded with stated dependencies ... OK * checking for unstated dependencies in R code ... OK * checking S3 generic/method consistency ... OK * checking replacement functions ... OK * checking foreign function calls ... OK * checking R code for possible problems ... OK * checking Rd files ... OK * checking Rd cross-references ... OK * checking for missing documentation entries ... OK * checking for code/documentation mismatches ... OK * checking Rd \usage sections ... OK * checking data for non-ASCII characters ... OK * creating goTools-Ex.R ... OK * checking examples ... OK * checking package vignettes in 'inst/doc' ... OK * creating goTools-manual.tex ... OK * checking goTools-manual.tex ... OK
goTools.Rcheck/00install.out:
installing R.css in E:/biocbld/bbs-2.1-bioc/meat/goTools.Rcheck
---------- Making package goTools ------------
  adding build stamp to DESCRIPTION
  installing R files
  installing inst files
  installing data files
  preparing package goTools for lazy loading
Loading required package: Biobase
Loading required package: tools
Welcome to Bioconductor
  Vignettes contain introductory material. To view, type
  'openVignette()'. To cite Bioconductor, see
  'citation("Biobase")' and for packages 'citation(pkgname)'.
Loading required package: annotate
Loading required package: AnnotationDbi
Loading required package: DBI
Loading required package: RSQLite
Loading required package: xtable
Loading required package: GO
  installing man source files
  installing indices
  not zipping data
  installing help
 >>> Building/Updating help pages for package 'goTools'
     Formats: text html latex example chm 
  EndNodeList                       text    html    latex   example chm
  goTools-internal                  text    html    latex           chm
  ontoCompare                       text    html    latex   example chm
  probeID                           text    html    latex           chm
Microsoft HTML Help Compiler 4.74.8702
Compiling e:\biocbld\bbs-2.1-bioc\meat\goTools.Rcheck\00_pkg_src\goTools\chm\goTools.chm
Compile time: 0 minutes, 0 seconds
5	Topics
26	Local links
0	Internet links
1	Graphic
Created e:\biocbld\bbs-2.1-bioc\meat\goTools.Rcheck\00_pkg_src\goTools\chm\goTools.chm, 19,992 bytes
Compression increased file by 1,089 bytes.
  adding MD5 sums
* DONE (goTools)