Back to the "Multiple platform build/check report"
| Package 34/234 | Hostname | OS | Arch | BUILD | CHECK | BUILD BIN |
| bioDist 1.10.0 Biocore Team c/o BioC user list Last Changed Date: 2007-10-02 17:41:09 -0700 Last Changed Rev: 27709 | lamb1 | Linux (SUSE 10.1) | x86_64 | OK | OK | |
| wellington | Linux (SUSE 9.2) | i686 | OK | OK | ||
| liverpool | Windows Server 2003 R2 (32-bit) | x64 | OK | OK | OK | |
| pitt | Mac OS X (10.4.10) | i386 | [ OK ] | OK | OK |
| Package: bioDist |
| Version: 1.10.0 |
| Command: /Library/Frameworks/R.framework/Resources/bin/R CMD build bioDist |
| RetCode: 0 |
| Time: 0.8 seconds |
| Status: OK |
| PackageFile: bioDist_1.10.0.tar.gz |
* checking for file 'bioDist/DESCRIPTION' ... OK * preparing 'bioDist': * checking DESCRIPTION meta-information ... OK * removing junk files * excluding invalid files from 'bioDist' Subdirectory 'man' contains invalid file names: dens2func.old locf2func.old * checking for LF line-endings in source and make files * checking for empty or unneeded directories * building 'bioDist_1.10.0.tar.gz'