Back to the "Multiple platform build/check report"
| Package 34/234 | Hostname | OS | Arch | BUILD | CHECK | BUILD BIN |
| bioDist 1.10.0 Biocore Team c/o BioC user list Last Changed Date: 2007-10-02 17:41:09 -0700 Last Changed Rev: 27709 | lamb1 | Linux (SUSE 10.1) | x86_64 | OK | OK | |
| wellington | Linux (SUSE 9.2) | i686 | OK | OK | ||
| liverpool | Windows Server 2003 R2 (32-bit) | x64 | OK | [ OK ] | OK | |
| pitt | Mac OS X (10.4.10) | i386 | OK | OK | OK |
| Package: bioDist |
| Version: 1.10.0 |
| Command: E:\biocbld\bbs-2.1-bioc\R\bin\R.exe CMD check bioDist_1.10.0.tar.gz |
| RetCode: 0 |
| Time: 42.8 seconds |
| Status: OK |
| CheckDir: bioDist.Rcheck |
| Warnings: 0 |
* checking for working latex ... OK * using log directory 'E:/biocbld/bbs-2.1-bioc/meat/bioDist.Rcheck' * using R version 2.6.0 (2007-10-03) * checking for file 'bioDist/DESCRIPTION' ... OK * this is package 'bioDist' version '1.10.0' * checking package name space information ... OK * checking package dependencies ... OK * checking if this is a source package ... OK * checking whether package 'bioDist' can be installed ... OK * checking package directory ... OK * checking for portable file names ... OK * checking DESCRIPTION meta-information ... OK * checking top-level files ... OK * checking index information ... OK * checking package subdirectories ... OK * checking R files for non-ASCII characters ... OK * checking R files for syntax errors ... OK * checking whether the package can be loaded ... OK * checking whether the package can be loaded with stated dependencies ... OK * checking whether the name space can be loaded with stated dependencies ... OK * checking for unstated dependencies in R code ... OK * checking S3 generic/method consistency ... OK * checking replacement functions ... OK * checking foreign function calls ... OK * checking R code for possible problems ... OK * checking Rd files ... OK * checking Rd cross-references ... OK * checking for missing documentation entries ... OK * checking for code/documentation mismatches ... OK * checking Rd \usage sections ... OK * creating bioDist-Ex.R ... OK * checking examples ... OK * creating bioDist-manual.tex ... OK * checking bioDist-manual.tex ... OK
bioDist.Rcheck/00install.out:
installing R.css in E:/biocbld/bbs-2.1-bioc/meat/bioDist.Rcheck
---------- Making package bioDist ------------
adding build stamp to DESCRIPTION
installing NAMESPACE file and metadata
installing R files
installing man source files
installing indices
installing help
>>> Building/Updating help pages for package 'bioDist'
Formats: text html latex example chm
KLD.matrix text html latex example chm
KLdist.matrix text html latex example chm
closest.top text html latex example chm
cor.dist text html latex example chm
euc text html latex example chm
man text html latex example chm
mutualInfo text html latex example chm
spearman.dist text html latex example chm
tau.dist text html latex example chm
Microsoft HTML Help Compiler 4.74.8702
Compiling e:\biocbld\bbs-2.1-bioc\meat\bioDist.Rcheck\00_pkg_src\bioDist\chm\bioDist.chm
Compile time: 0 minutes, 0 seconds
10 Topics
103 Local links
0 Internet links
1 Graphic
Created e:\biocbld\bbs-2.1-bioc\meat\bioDist.Rcheck\00_pkg_src\bioDist\chm\bioDist.chm, 23,020 bytes
Compression decreased file by 16,424 bytes.
adding MD5 sums
* DONE (bioDist)