Back to the "Multiple platform build/check report"
| Package 50/234 | Hostname | OS | Arch | BUILD | CHECK | BUILD BIN | 
| CoCiteStats 1.10.0 R. Gentleman Last Changed Date: 2007-10-02 17:41:09 -0700 Last Changed Rev: 27709  | lamb1 | Linux (SUSE 10.1) | x86_64 | OK | OK | |
| wellington | Linux (SUSE 9.2) | i686 | OK | OK | ||
| liverpool | Windows Server 2003 R2 (32-bit) | x64 | OK | OK | OK | |
| pitt | Mac OS X (10.4.10) | i386 | OK | OK | [ OK ] | 
| Package: CoCiteStats | 
| Version: 1.10.0 | 
| Command: /Users/biocbuild/BBS/utils/build-universal.sh CoCiteStats_1.10.0.tar.gz /Library/Frameworks/R.framework/Resources/bin/R CoCiteStats.buildbin-libdir | 
| RetCode: 0 | 
| Time: 4.3 seconds | 
| Status: OK | 
| PackageFile: CoCiteStats_1.10.0.tgz | 
                    INSTALLATION WITH 'R CMD INSTALL CoCiteStats_1.10.0.tar.gz'
* Installing to library 'CoCiteStats.buildbin-libdir'
* Installing *source* package 'CoCiteStats' ...
** R
** help
 >>> Building/Updating help pages for package 'CoCiteStats'
     Formats: text html latex example 
  actorAdjTable                     text    html    latex   example
  gene.gene.statistic               text    html    latex   example
  gene.geneslist.sig                text    html    latex   example
  gene.geneslist.statistic          text    html    latex   example
  paperLen                          text    html    latex   example
  twTStats                          text    html    latex   example
  twowayTable                       text    html    latex   example
** building package indices ...
* DONE (CoCiteStats)