Back to the "Multiple platform build/check report"
| Package 153/234 | Hostname | OS | Arch | BUILD | CHECK | BUILD BIN |
| OutlierD 1.2.0 Sukwoo Kim Last Changed Date: 2007-10-02 17:41:09 -0700 Last Changed Rev: 27709 | lamb1 | Linux (SUSE 10.1) | x86_64 | [ OK ] | OK | |
| wellington | Linux (SUSE 9.2) | i686 | OK | OK | ||
| liverpool | Windows Server 2003 R2 (32-bit) | x64 | OK | OK | OK | |
| pitt | Mac OS X (10.4.10) | i386 | OK | OK | OK |
| Package: OutlierD |
| Version: 1.2.0 |
| Command: /home/biocbuild/bbs-2.1-bioc/R/bin/R CMD build OutlierD |
| RetCode: 0 |
| Time: 9.5 seconds |
| Status: OK |
| PackageFile: OutlierD_1.2.0.tar.gz |
* checking for file 'OutlierD/DESCRIPTION' ... OK
* preparing 'OutlierD':
* checking DESCRIPTION meta-information ... OK
* checking whether 'INDEX' is up-to-date ... NO
* use '--force' to overwrite the existing 'INDEX'
* installing the package to re-build vignettes
* Installing *source* package 'OutlierD' ...
** R
** data
** inst
** help
>>> Building/Updating help pages for package 'OutlierD'
Formats: text html latex example
OutlierD text html latex example
lcms text html latex
** building package indices ...
* DONE (OutlierD)
* creating vignettes ... OK
* removing junk files
* checking for LF line-endings in source and make files
* checking for empty or unneeded directories
* building 'OutlierD_1.2.0.tar.gz'