Back to the "Multiple platform build/check report"
| Package 183/234 | Hostname | OS | Arch | BUILD | CHECK | BUILD BIN | 
| Resourcerer 1.12.0 Jianhua Zhang Last Changed Date: 2007-10-02 17:41:09 -0700 Last Changed Rev: 27709  | lamb1 | Linux (SUSE 10.1) | x86_64 | OK | OK | |
| wellington | Linux (SUSE 9.2) | i686 | OK | OK | ||
| liverpool | Windows Server 2003 R2 (32-bit) | x64 | OK | OK | OK | |
| pitt | Mac OS X (10.4.10) | i386 | OK | OK | [ OK ] | 
| Package: Resourcerer | 
| Version: 1.12.0 | 
| Command: /Users/biocbuild/BBS/utils/build-universal.sh Resourcerer_1.12.0.tar.gz /Library/Frameworks/R.framework/Resources/bin/R Resourcerer.buildbin-libdir | 
| RetCode: 0 | 
| Time: 5.8 seconds | 
| Status: OK | 
| PackageFile: Resourcerer_1.12.0.tgz | 
                    INSTALLATION WITH 'R CMD INSTALL Resourcerer_1.12.0.tar.gz'
* Installing to library 'Resourcerer.buildbin-libdir'
* Installing *source* package 'Resourcerer' ...
** R
** inst
** preparing package for lazy loading
Loading required package: Biobase
Loading required package: tools
Welcome to Bioconductor
  Vignettes contain introductory material. To view, type
  'openVignette()'. To cite Bioconductor, see
  'citation("Biobase")' and for packages 'citation(pkgname)'.
Loading required package: AnnBuilder
Loading required package: XML
Loading required package: annotate
Loading required package: AnnotationDbi
Loading required package: DBI
Loading required package: RSQLite
Loading required package: xtable
** help
Note: unmatched right brace in 'getRsourcerer' on or after line 56
 >>> Building/Updating help pages for package 'Resourcerer'
     Formats: text html latex example 
  getRsourcerer                     text    html    latex   example
  resourcerer2BioC                  text    html    latex   example
** building package indices ...
* DONE (Resourcerer)