Back to the "Multiple platform build/check report"
| Package 183/234 | Hostname | OS | Arch | BUILD | CHECK | BUILD BIN |
| Resourcerer 1.12.0 Jianhua Zhang Last Changed Date: 2007-10-02 17:41:09 -0700 Last Changed Rev: 27709 | lamb1 | Linux (SUSE 10.1) | x86_64 | OK | OK | |
| wellington | Linux (SUSE 9.2) | i686 | OK | [ OK ] | ||
| liverpool | Windows Server 2003 R2 (32-bit) | x64 | OK | OK | OK | |
| pitt | Mac OS X (10.4.10) | i386 | OK | OK | OK |
| Package: Resourcerer |
| Version: 1.12.0 |
| Command: /loc/biocbuild/bbs-2.1-bioc/R/bin/R CMD check Resourcerer_1.12.0.tar.gz |
| RetCode: 0 |
| Time: 157.4 seconds |
| Status: OK |
| CheckDir: Resourcerer.Rcheck |
| Warnings: 0 |
* checking for working latex ... OK * using log directory '/extra/loc/biocbuild/bbs-2.1-bioc/meat/Resourcerer.Rcheck' * using R version 2.6.0 (2007-10-03) * checking for file 'Resourcerer/DESCRIPTION' ... OK * this is package 'Resourcerer' version '1.12.0' * checking package name space information ... OK * checking package dependencies ... OK * checking if this is a source package ... OK * checking whether package 'Resourcerer' can be installed ... OK * checking package directory ... OK * checking for portable file names ... OK * checking for sufficient/correct file permissions ... OK * checking DESCRIPTION meta-information ... OK * checking top-level files ... OK * checking index information ... OK * checking package subdirectories ... OK * checking R files for non-ASCII characters ... OK * checking R files for syntax errors ... OK * checking whether the package can be loaded ... OK * checking whether the package can be loaded with stated dependencies ... OK * checking whether the name space can be loaded with stated dependencies ... OK * checking for unstated dependencies in R code ... OK * checking S3 generic/method consistency ... OK * checking replacement functions ... OK * checking foreign function calls ... OK * checking R code for possible problems ... OK * checking Rd files ... OK * checking Rd cross-references ... OK * checking for missing documentation entries ... OK * checking for code/documentation mismatches ... OK * checking Rd \usage sections ... OK * creating Resourcerer-Ex.R ... OK * checking examples ... OK * checking package vignettes in 'inst/doc' ... OK * creating Resourcerer-manual.tex ... OK * checking Resourcerer-manual.tex ... OK
Resourcerer.Rcheck/00install.out:
* Installing *source* package 'Resourcerer' ...
** R
** inst
** preparing package for lazy loading
Loading required package: Biobase
Loading required package: tools
Welcome to Bioconductor
Vignettes contain introductory material. To view, type
'openVignette()'. To cite Bioconductor, see
'citation("Biobase")' and for packages 'citation(pkgname)'.
Loading required package: AnnBuilder
Loading required package: XML
Loading required package: annotate
Loading required package: AnnotationDbi
Loading required package: DBI
Loading required package: RSQLite
Loading required package: xtable
** help
Note: unmatched right brace in 'getRsourcerer' on or after line 56
>>> Building/Updating help pages for package 'Resourcerer'
Formats: text html latex example
getRsourcerer text html latex example
resourcerer2BioC text html latex example
** building package indices ...
* DONE (Resourcerer)