Back to the "Multiple platform build/check report"
| Package 40/234 | Hostname | OS | Arch | BUILD | CHECK | BUILD BIN |
| BufferedMatrix 1.2.0 Benjamin Milo Bolstad Last Changed Date: 2007-10-02 17:41:09 -0700 Last Changed Rev: 27709 | lamb1 | Linux (SUSE 10.1) | x86_64 | OK | OK | |
| wellington | Linux (SUSE 9.2) | i686 | OK | OK | ||
| liverpool | Windows Server 2003 R2 (32-bit) | x64 | OK | OK | [ OK ] | |
| pitt | Mac OS X (10.4.10) | i386 | OK | OK | OK |
| Package: BufferedMatrix |
| Version: 1.2.0 |
| Command: E:\biocbld\bbs-2.1-bioc\R\bin\R.exe CMD INSTALL --build --library=BufferedMatrix.buildbin-libdir BufferedMatrix_1.2.0.tar.gz |
| RetCode: 0 |
| Time: 22.6 seconds |
| Status: OK |
| PackageFile: BufferedMatrix_1.2.0.zip |
installing R.css in E:/biocbld/bbs-2.1-bioc/meat/BufferedMatrix.buildbin-libdir
Using auto-selected zip options ''
---------- Making package BufferedMatrix ------------
adding build stamp to DESCRIPTION
making DLL ...
making RBufferedMatrix.d from RBufferedMatrix.c
making doubleBufferedMatrix.d from doubleBufferedMatrix.c
making doubleBufferedMatrix_C_tests.d from doubleBufferedMatrix_C_tests.c
making init_package.d from init_package.c
gcc-sjlj -std=gnu99 -IE:/biocbld/bbs-2.1-bioc/R/include -Wall -O3 -c RBufferedMatrix.c -o RBufferedMatrix.o
gcc-sjlj -std=gnu99 -IE:/biocbld/bbs-2.1-bioc/R/include -Wall -O3 -c doubleBufferedMatrix.c -o doubleBufferedMatrix.o
doubleBufferedMatrix.c:3327: warning: 'sort_double' defined but not used
gcc-sjlj -std=gnu99 -IE:/biocbld/bbs-2.1-bioc/R/include -Wall -O3 -c doubleBufferedMatrix_C_tests.c -o doubleBufferedMatrix_C_tests.o
gcc-sjlj -std=gnu99 -IE:/biocbld/bbs-2.1-bioc/R/include -Wall -O3 -c init_package.c -o init_package.o
windres --preprocessor="gcc-sjlj -E -xc -DRC_INVOKED" -I E:/biocbld/bbs-2.1-bioc/R/include -i BufferedMatrix_res.rc -o BufferedMatrix_res.o
gcc-sjlj -std=gnu99 -shared -s -o BufferedMatrix.dll BufferedMatrix.def RBufferedMatrix.o doubleBufferedMatrix.o doubleBufferedMatrix_C_tests.o init_package.o BufferedMatrix_res.o -LE:/biocbld/bbs-2.1-bioc/R/bin -lR
... DLL made
installing DLL
installing R files
installing inst files
preparing package BufferedMatrix for lazy loading
Creating a new generic function for "ncol" in "BufferedMatrix"
Creating a new generic function for "nrow" in "BufferedMatrix"
Creating a new generic function for "mean" in "BufferedMatrix"
Creating a new generic function for "as.matrix" in "BufferedMatrix"
installing man source files
installing indices
installing help
>>> Building/Updating help pages for package 'BufferedMatrix'
Formats: text html latex example chm
BufferedMatrix-class text html latex chm
as.BufferedMatrix text html latex chm
createBufferedMatrix text html latex example chm
Microsoft HTML Help Compiler 4.74.8702
Compiling e:\biocbld\bbs-2.1-bioc\meat\R.INSTALL.3752\BufferedMatrix\chm\BufferedMatrix.chm
Compile time: 0 minutes, 0 seconds
4 Topics
105 Local links
0 Internet links
1 Graphic
Created e:\biocbld\bbs-2.1-bioc\meat\R.INSTALL.3752\BufferedMatrix\chm\BufferedMatrix.chm, 23,623 bytes
Compression decreased file by 30,923 bytes.
adding MD5 sums
packaged installation of package 'BufferedMatrix' as BufferedMatrix_1.2.0.zip
* DONE (BufferedMatrix)