Back to the "Multiple platform build/check report"
| Package 12/234 | Hostname | OS | Arch | BUILD | CHECK | BUILD BIN |
| affypdnn 1.12.0 Laurent Gautier Last Changed Date: 2007-10-02 17:41:09 -0700 Last Changed Rev: 27709 | lamb1 | Linux (SUSE 10.1) | x86_64 | OK | OK | |
| wellington | Linux (SUSE 9.2) | i686 | OK | OK | ||
| liverpool | Windows Server 2003 R2 (32-bit) | x64 | OK | OK | OK | |
| pitt | Mac OS X (10.4.10) | i386 | OK | OK | [ OK ] |
| Package: affypdnn |
| Version: 1.12.0 |
| Command: /Users/biocbuild/BBS/utils/build-universal.sh affypdnn_1.12.0.tar.gz /Library/Frameworks/R.framework/Resources/bin/R affypdnn.buildbin-libdir |
| RetCode: 0 |
| Time: 25.8 seconds |
| Status: OK |
| PackageFile: affypdnn_1.12.0.tgz |
INSTALLATION WITH 'R CMD INSTALL affypdnn_1.12.0.tar.gz'
* Installing to library 'affypdnn.buildbin-libdir'
* Installing *source* package 'affypdnn' ...
** R
** data
** inst
** help
>>> Building/Updating help pages for package 'affypdnn'
Formats: text html latex example
chiptype.pdnn.params text html latex example
expressopdnn text html latex example
find.params.pdnn text html latex example
generateExprVal.method.pdnn text html latex example
matplotProbesPDNN text html latex example
pdnn.params.chiptype text html latex example
transform.ProbeSet text html latex example
** building package indices ...
* DONE (affypdnn)