Back to the "Multiple platform build/check report"
| Package 136/234 | Hostname | OS | Arch | BUILD | CHECK | BUILD BIN |
| metaArray 1.12.0 Hyungwon Choi Last Changed Date: 2007-10-02 17:41:09 -0700 Last Changed Rev: 27709 | lamb1 | Linux (SUSE 10.1) | x86_64 | OK | OK | |
| wellington | Linux (SUSE 9.2) | i686 | OK | OK | ||
| liverpool | Windows Server 2003 R2 (32-bit) | x64 | OK | OK | OK | |
| pitt | Mac OS X (10.4.10) | i386 | OK | OK | [ OK ] |
| Package: metaArray |
| Version: 1.12.0 |
| Command: /Users/biocbuild/BBS/utils/build-universal.sh metaArray_1.12.0.tar.gz /Library/Frameworks/R.framework/Resources/bin/R metaArray.buildbin-libdir |
| RetCode: 0 |
| Time: 10.4 seconds |
| Status: OK |
| PackageFile: metaArray_1.12.0.tgz |
INSTALLATION WITH 'R CMD INSTALL metaArray_1.12.0.tar.gz'
* Installing to library 'metaArray.buildbin-libdir'
* Installing *source* package 'metaArray' ...
** libs
** arch - i386
gcc-4.0 -arch i386 -isysroot /Developer/SDKs/MacOSX10.4u.sdk -std=gnu99 -no-cpp-precomp -I/Library/Frameworks/R.framework/Resources/include -I/Library/Frameworks/R.framework/Resources/include/i386 -msse3 -DUSEDOUBLE -fPIC -g -O2 -Wall -march=nocona -c contr.c -o contr.o
gcc-4.0 -arch i386 -isysroot /Developer/SDKs/MacOSX10.4u.sdk -std=gnu99 -no-cpp-precomp -I/Library/Frameworks/R.framework/Resources/include -I/Library/Frameworks/R.framework/Resources/include/i386 -msse3 -DUSEDOUBLE -fPIC -g -O2 -Wall -march=nocona -c dproc.c -o dproc.o
gcc-4.0 -arch i386 -isysroot /Developer/SDKs/MacOSX10.4u.sdk -std=gnu99 -no-cpp-precomp -I/Library/Frameworks/R.framework/Resources/include -I/Library/Frameworks/R.framework/Resources/include/i386 -msse3 -DUSEDOUBLE -fPIC -g -O2 -Wall -march=nocona -c dproc2.c -o dproc2.o
gcc-4.0 -arch i386 -isysroot /Developer/SDKs/MacOSX10.4u.sdk -std=gnu99 -no-cpp-precomp -I/Library/Frameworks/R.framework/Resources/include -I/Library/Frameworks/R.framework/Resources/include/i386 -msse3 -DUSEDOUBLE -fPIC -g -O2 -Wall -march=nocona -c intcor.c -o intcor.o
gcc-4.0 -arch i386 -isysroot /Developer/SDKs/MacOSX10.4u.sdk -std=gnu99 -no-cpp-precomp -I/Library/Frameworks/R.framework/Resources/include -I/Library/Frameworks/R.framework/Resources/include/i386 -msse3 -DUSEDOUBLE -fPIC -g -O2 -Wall -march=nocona -c lowess.c -o lowess.o
gcc-4.0 -arch i386 -isysroot /Developer/SDKs/MacOSX10.4u.sdk -std=gnu99 -no-cpp-precomp -I/Library/Frameworks/R.framework/Resources/include -I/Library/Frameworks/R.framework/Resources/include/i386 -msse3 -DUSEDOUBLE -fPIC -g -O2 -Wall -march=nocona -c mmath.c -o mmath.o
gcc-4.0 -arch i386 -isysroot /Developer/SDKs/MacOSX10.4u.sdk -std=gnu99 -no-cpp-precomp -I/Library/Frameworks/R.framework/Resources/include -I/Library/Frameworks/R.framework/Resources/include/i386 -msse3 -DUSEDOUBLE -fPIC -g -O2 -Wall -march=nocona -c perm.c -o perm.o
gcc-4.0 -arch i386 -isysroot /Developer/SDKs/MacOSX10.4u.sdk -std=gnu99 -no-cpp-precomp -I/Library/Frameworks/R.framework/Resources/include -I/Library/Frameworks/R.framework/Resources/include/i386 -msse3 -DUSEDOUBLE -fPIC -g -O2 -Wall -march=nocona -c poe.c -o poe.o
poe.c: In function 'poe_one_iter':
poe.c:431: warning: suggest parentheses around comparison in operand of &
poe.c:437: warning: suggest parentheses around comparison in operand of &
poe.c:438: warning: suggest parentheses around comparison in operand of |
gcc-4.0 -arch i386 -isysroot /Developer/SDKs/MacOSX10.4u.sdk -std=gnu99 -dynamiclib -Wl,-macosx_version_min -Wl,10.3 -undefined dynamic_lookup -single_module -multiply_defined suppress -L/usr/local/lib -o metaArray.so contr.o dproc.o dproc2.o intcor.o lowess.o mmath.o perm.o poe.o -lm -F/Library/Frameworks/R.framework/.. -framework R
** arch - ppc
gcc-4.0 -arch ppc -isysroot /Developer/SDKs/MacOSX10.4u.sdk -std=gnu99 -no-cpp-precomp -I/Library/Frameworks/R.framework/Resources/include -I/Library/Frameworks/R.framework/Resources/include/ppc -I/usr/local/include -DUSEDOUBLE -fPIC -g -O2 -Wall -c contr.c -o contr.o
gcc-4.0 -arch ppc -isysroot /Developer/SDKs/MacOSX10.4u.sdk -std=gnu99 -no-cpp-precomp -I/Library/Frameworks/R.framework/Resources/include -I/Library/Frameworks/R.framework/Resources/include/ppc -I/usr/local/include -DUSEDOUBLE -fPIC -g -O2 -Wall -c dproc.c -o dproc.o
gcc-4.0 -arch ppc -isysroot /Developer/SDKs/MacOSX10.4u.sdk -std=gnu99 -no-cpp-precomp -I/Library/Frameworks/R.framework/Resources/include -I/Library/Frameworks/R.framework/Resources/include/ppc -I/usr/local/include -DUSEDOUBLE -fPIC -g -O2 -Wall -c dproc2.c -o dproc2.o
gcc-4.0 -arch ppc -isysroot /Developer/SDKs/MacOSX10.4u.sdk -std=gnu99 -no-cpp-precomp -I/Library/Frameworks/R.framework/Resources/include -I/Library/Frameworks/R.framework/Resources/include/ppc -I/usr/local/include -DUSEDOUBLE -fPIC -g -O2 -Wall -c intcor.c -o intcor.o
gcc-4.0 -arch ppc -isysroot /Developer/SDKs/MacOSX10.4u.sdk -std=gnu99 -no-cpp-precomp -I/Library/Frameworks/R.framework/Resources/include -I/Library/Frameworks/R.framework/Resources/include/ppc -I/usr/local/include -DUSEDOUBLE -fPIC -g -O2 -Wall -c lowess.c -o lowess.o
gcc-4.0 -arch ppc -isysroot /Developer/SDKs/MacOSX10.4u.sdk -std=gnu99 -no-cpp-precomp -I/Library/Frameworks/R.framework/Resources/include -I/Library/Frameworks/R.framework/Resources/include/ppc -I/usr/local/include -DUSEDOUBLE -fPIC -g -O2 -Wall -c mmath.c -o mmath.o
gcc-4.0 -arch ppc -isysroot /Developer/SDKs/MacOSX10.4u.sdk -std=gnu99 -no-cpp-precomp -I/Library/Frameworks/R.framework/Resources/include -I/Library/Frameworks/R.framework/Resources/include/ppc -I/usr/local/include -DUSEDOUBLE -fPIC -g -O2 -Wall -c perm.c -o perm.o
gcc-4.0 -arch ppc -isysroot /Developer/SDKs/MacOSX10.4u.sdk -std=gnu99 -no-cpp-precomp -I/Library/Frameworks/R.framework/Resources/include -I/Library/Frameworks/R.framework/Resources/include/ppc -I/usr/local/include -DUSEDOUBLE -fPIC -g -O2 -Wall -c poe.c -o poe.o
poe.c: In function 'poe_one_iter':
poe.c:431: warning: suggest parentheses around comparison in operand of &
poe.c:437: warning: suggest parentheses around comparison in operand of &
poe.c:438: warning: suggest parentheses around comparison in operand of |
gcc-4.0 -arch ppc -isysroot /Developer/SDKs/MacOSX10.4u.sdk -std=gnu99 -dynamiclib -Wl,-macosx_version_min -Wl,10.3 -undefined dynamic_lookup -single_module -multiply_defined suppress -L/usr/local/lib -o metaArray.so contr.o dproc.o dproc2.o intcor.o lowess.o mmath.o perm.o poe.o -lm -F/Library/Frameworks/R.framework/.. -framework R
** R
** data
** inst
** help
>>> Building/Updating help pages for package 'metaArray'
Formats: text html latex example
Zscore text html latex example
em.draw text html latex example
find.init text html latex example
fit.em text html latex example
intcor text html latex example
logit text html latex
mdata text html latex
poe.em text html latex example
poe.mcmc text html latex example
** building package indices ...
* DONE (metaArray)