Back to the "Multiple platform build/check report"
| Package 143/234 | Hostname | OS | Arch | BUILD | CHECK | BUILD BIN |
| nnNorm 2.2.0 Adi Laurentiu Tarca Last Changed Date: 2007-10-02 17:41:09 -0700 Last Changed Rev: 27709 | lamb1 | Linux (SUSE 10.1) | x86_64 | OK | OK | |
| wellington | Linux (SUSE 9.2) | i686 | OK | OK | ||
| liverpool | Windows Server 2003 R2 (32-bit) | x64 | OK | OK | OK | |
| pitt | Mac OS X (10.4.10) | i386 | OK | OK | [ OK ] |
| Package: nnNorm |
| Version: 2.2.0 |
| Command: /Users/biocbuild/BBS/utils/build-universal.sh nnNorm_2.2.0.tar.gz /Library/Frameworks/R.framework/Resources/bin/R nnNorm.buildbin-libdir |
| RetCode: 0 |
| Time: 2.8 seconds |
| Status: OK |
| PackageFile: nnNorm_2.2.0.tgz |
INSTALLATION WITH 'R CMD INSTALL nnNorm_2.2.0.tar.gz'
* Installing to library 'nnNorm.buildbin-libdir'
* Installing *source* package 'nnNorm' ...
** R
** inst
** help
Note: unmatched right brace in 'detectSpatialBias' on or after line 32
Note: unmatched right brace in 'maNormNN' on or after line 52
>>> Building/Updating help pages for package 'nnNorm'
Formats: text html latex example
compNorm text html latex example
detectSpatialBias text html latex example
maNormNN text html latex example
** building package indices ...
* DONE (nnNorm)