Back to the "Multiple platform build/check report"
| Package 173/234 | Hostname | OS | Arch | BUILD | CHECK | BUILD BIN | 
| qvalue 1.12.0 John D. Storey Last Changed Date: 2007-10-02 17:41:09 -0700 Last Changed Rev: 27709  | lamb1 | Linux (SUSE 10.1) | x86_64 | OK | OK | |
| wellington | Linux (SUSE 9.2) | i686 | OK | OK | ||
| liverpool | Windows Server 2003 R2 (32-bit) | x64 | [ OK ] | OK | OK | |
| pitt | Mac OS X (10.4.10) | i386 | OK | OK | OK | 
| Package: qvalue | 
| Version: 1.12.0 | 
| Command: E:\biocbld\bbs-2.1-bioc\R\bin\R.exe CMD build qvalue | 
| RetCode: 0 | 
| Time: 24.7 seconds | 
| Status: OK | 
| PackageFile: qvalue_1.12.0.tar.gz | 
* checking for file 'qvalue/DESCRIPTION' ... OK
* preparing 'qvalue':
* checking DESCRIPTION meta-information ... OK
* checking whether 'INDEX' is up-to-date ... NO
* use '--force' to overwrite the existing 'INDEX'
* installing the package to re-build vignettes
installing R.css in E:/biocbld/bbs-2.1-bioc/tmpdir/Rinst340808047
---------- Making package qvalue ------------
  adding build stamp to DESCRIPTION
  installing R files
  installing inst files
  installing data files
  installing man source files
  installing indices
  not zipping data
  installing help
 >>> Building/Updating help pages for package 'qvalue'
     Formats: text html latex example chm 
  hedenfalk                         text    html    latex           chm
  qplot                             text    html    latex   example chm
  qsummary                          text    html    latex   example chm
  qvalue.gui                        text    html    latex   example chm
  qvalue                            text    html    latex   example chm
  qwrite                            text    html    latex   example chm
Microsoft HTML Help Compiler 4.74.8702
Compiling e:\biocbld\bbs-2.1-bioc\meat\qvalue\chm\qvalue.chm
Compile time: 0 minutes, 0 seconds
7	Topics
35	Local links
3	Internet links
1	Graphic
Created e:\biocbld\bbs-2.1-bioc\meat\qvalue\chm\qvalue.chm, 24,833 bytes
Compression decreased file by 1,114 bytes.
  preparing package qvalue for lazy loading
Loading required package: tcltk
Loading Tcl/Tk interface ... done
  adding MD5 sums
* DONE (qvalue)
* creating vignettes ... OK
* removing junk files
* checking for LF line-endings in source and make files
* checking for empty or unneeded directories
* building 'qvalue_1.12.0.tar.gz'