Back to the "Multiple platform build/check report"
| Package 217/234 | Hostname | OS | Arch | BUILD | CHECK | BUILD BIN | 
| spotSegmentation 1.12.0 Chris Fraley Last Changed Date: 2007-10-02 17:41:09 -0700 Last Changed Rev: 27709  | lamb1 | Linux (SUSE 10.1) | x86_64 | OK | OK | |
| wellington | Linux (SUSE 9.2) | i686 | OK | OK | ||
| liverpool | Windows Server 2003 R2 (32-bit) | x64 | OK | OK | [ OK ] | |
| pitt | Mac OS X (10.4.10) | i386 | OK | OK | OK | 
| Package: spotSegmentation | 
| Version: 1.12.0 | 
| Command: E:\biocbld\bbs-2.1-bioc\R\bin\R.exe CMD INSTALL --build --library=spotSegmentation.buildbin-libdir spotSegmentation_1.12.0.tar.gz | 
| RetCode: 0 | 
| Time: 14.5 seconds | 
| Status: OK | 
| PackageFile: spotSegmentation_1.12.0.zip | 
installing R.css in E:/biocbld/bbs-2.1-bioc/meat/spotSegmentation.buildbin-libdir
Using auto-selected zip options 'spotSegmentation-ZIPDATA=zip'
---------- Making package spotSegmentation ------------
  adding build stamp to DESCRIPTION
  installing R files
  installing inst files
  installing data files
  installing man source files
  installing indices
  zipping data
  installing help
 >>> Building/Updating help pages for package 'spotSegmentation'
     Formats: text html latex example chm 
  plot.spotseg                      text    html    latex   example chm
  plotBlockImage                    text    html    latex   example chm
  spotSegTest                       text    html    latex           chm
  spotgrid                          text    html    latex   example chm
  spotseg                           text    html    latex   example chm
  summary.spotseg                   text    html    latex   example chm
Microsoft HTML Help Compiler 4.74.8702
Compiling e:\biocbld\bbs-2.1-bioc\meat\R.INSTALL.5876\spotSegmentation\chm\spotSegmentation.chm
Compile time: 0 minutes, 0 seconds
7	Topics
19	Local links
1	Internet link
1	Graphic
Created e:\biocbld\bbs-2.1-bioc\meat\R.INSTALL.5876\spotSegmentation\chm\spotSegmentation.chm, 24,163 bytes
Compression decreased file by 979 bytes.
  adding MD5 sums
packaged installation of package 'spotSegmentation' as spotSegmentation_1.12.0.zip
* DONE (spotSegmentation)