Back to the "Multiple platform build/check report"
| Package 46/234 | Hostname | OS | Arch | BUILD | CHECK | BUILD BIN | 
| CGHcall 1.0.0 Sjoerd Vosse Last Changed Date: 2007-10-02 17:41:09 -0700 Last Changed Rev: 27709  | lamb1 | Linux (SUSE 10.1) | x86_64 | OK | OK | |
| wellington | Linux (SUSE 9.2) | i686 | OK | OK | ||
| liverpool | Windows Server 2003 R2 (32-bit) | x64 | OK | OK | [ OK ] | |
| pitt | Mac OS X (10.4.10) | i386 | OK | OK | OK | 
| Package: CGHcall | 
| Version: 1.0.0 | 
| Command: E:\biocbld\bbs-2.1-bioc\R\bin\R.exe CMD INSTALL --build --library=CGHcall.buildbin-libdir CGHcall_1.0.0.tar.gz | 
| RetCode: 0 | 
| Time: 18.5 seconds | 
| Status: OK | 
| PackageFile: CGHcall_1.0.0.zip | 
installing R.css in E:/biocbld/bbs-2.1-bioc/meat/CGHcall.buildbin-libdir
Using auto-selected zip options 'CGHcall-ZIPDATA=zip'
---------- Making package CGHcall ------------
  adding build stamp to DESCRIPTION
  installing NAMESPACE file and metadata
  installing R files
  installing inst files
  installing data files
  installing man source files
  installing indices
  zipping data
  installing help
 >>> Building/Updating help pages for package 'CGHcall'
     Formats: text html latex example chm 
  CGHcall-package                   text    html    latex           chm
  CGHcall                           text    html    latex   example chm
  Wilting                           text    html    latex           chm
  normalize                         text    html    latex   example chm
  plotProfile                       text    html    latex   example chm
  preprocess                        text    html    latex   example chm
  segmentData                       text    html    latex   example chm
Microsoft HTML Help Compiler 4.74.8702
Compiling e:\biocbld\bbs-2.1-bioc\meat\R.INSTALL.5620\CGHcall\chm\CGHcall.chm
Compile time: 0 minutes, 1 second
8	Topics
16	Local links
0	Internet links
1	Graphic
Created e:\biocbld\bbs-2.1-bioc\meat\R.INSTALL.5620\CGHcall\chm\CGHcall.chm, 27,160 bytes
Compression decreased file by 5,149 bytes.
  preparing package CGHcall for lazy loading
Loading required package: impute
Loading required package: DNAcopy
  adding MD5 sums
packaged installation of package 'CGHcall' as CGHcall_1.0.0.zip
* DONE (CGHcall)