Back to the "Multiple platform build/check report"
| Package 106/234 | Hostname | OS | Arch | BUILD | CHECK | BUILD BIN |
| impute 1.10.0 Balasubramanian Narasimhan Last Changed Date: 2007-10-02 17:41:09 -0700 Last Changed Rev: 27709 | lamb1 | Linux (SUSE 10.1) | x86_64 | OK | OK | |
| wellington | Linux (SUSE 9.2) | i686 | OK | OK | ||
| liverpool | Windows Server 2003 R2 (32-bit) | x64 | OK | OK | [ OK ] | |
| pitt | Mac OS X (10.4.10) | i386 | OK | OK | OK |
| Package: impute |
| Version: 1.10.0 |
| Command: E:\biocbld\bbs-2.1-bioc\R\bin\R.exe CMD INSTALL --build --library=impute.buildbin-libdir impute_1.10.0.tar.gz |
| RetCode: 0 |
| Time: 18.2 seconds |
| Status: OK |
| PackageFile: impute_1.10.0.zip |
installing R.css in E:/biocbld/bbs-2.1-bioc/meat/impute.buildbin-libdir
Using auto-selected zip options 'impute-ZIPDATA=zip'
---------- Making package impute ------------
adding build stamp to DESCRIPTION
installing NAMESPACE file and metadata
making DLL ...
gfortran-sjlj -O3 -Wall -c knnimpute.f -o knnimpute.o
Warning: Nonconforming tab character in column 1 of line 89
Warning: Nonconforming tab character in column 1 of line 91
Warning: Nonconforming tab character in column 1 of line 92
Warning: Nonconforming tab character in column 1 of line 93
Warning: Nonconforming tab character in column 1 of line 94
Warning: Nonconforming tab character in column 1 of line 95
Warning: Nonconforming tab character in column 1 of line 96
Warning: Nonconforming tab character in column 1 of line 97
Warning: Nonconforming tab character in column 1 of line 98
Warning: Nonconforming tab character in column 1 of line 99
Warning: Nonconforming tab character in column 1 of line 100
Warning: Nonconforming tab character in column 1 of line 101
Warning: Nonconforming tab character in column 1 of line 102
Warning: Nonconforming tab character in column 1 of line 103
Warning: Nonconforming tab character in column 1 of line 104
Warning: Nonconforming tab character in column 1 of line 105
Warning: Nonconforming tab character in column 1 of line 106
Warning: Nonconforming tab character in column 1 of line 107
Warning: Nonconforming tab character in column 1 of line 108
Warning: Nonconforming tab character in column 1 of line 109
Warning: Nonconforming tab character in column 1 of line 110
Warning: Nonconforming tab character in column 1 of line 111
Warning: Nonconforming tab character in column 1 of line 112
Warning: Nonconforming tab character in column 1 of line 113
Warning: Nonconforming tab character in column 1 of line 114
Warning: Nonconforming tab character in column 1 of line 115
Warning: Nonconforming tab character in column 1 of line 116
Warning: Nonconforming tab character in column 1 of line 117
Warning: Nonconforming tab character in column 1 of line 118
Warning: Nonconforming tab character in column 1 of line 119
Warning: Nonconforming tab character in column 1 of line 120
Warning: Nonconforming tab character in column 1 of line 121
Warning: Nonconforming tab character in column 1 of line 122
knnimpute.f: In function 'twomis':
knnimpute.f:132: warning: 'dold' may be used uninitialized in this function
windres --preprocessor="gcc-sjlj -E -xc -DRC_INVOKED" -I E:/biocbld/bbs-2.1-bioc/R/include -i impute_res.rc -o impute_res.o
gcc-sjlj -std=gnu99 -shared -s -o impute.dll impute.def knnimpute.o impute_res.o -LE:/biocbld/bbs-2.1-bioc/R/bin -lgfortran -lR
... DLL made
installing DLL
installing R files
installing data files
installing man source files
installing indices
zipping data
installing help
>>> Building/Updating help pages for package 'impute'
Formats: text html latex example chm
impute.knn text html latex example chm
khanmiss text html latex example chm
Microsoft HTML Help Compiler 4.74.8702
Compiling e:\biocbld\bbs-2.1-bioc\meat\R.INSTALL.592\impute\chm\impute.chm
Compile time: 0 minutes, 0 seconds
3 Topics
4 Local links
0 Internet links
1 Graphic
Created e:\biocbld\bbs-2.1-bioc\meat\R.INSTALL.592\impute\chm\impute.chm, 21,735 bytes
Compression increased file by 7,833 bytes.
adding MD5 sums
packaged installation of package 'impute' as impute_1.10.0.zip
* DONE (impute)