Back to the "Multiple platform build/check report"
| Package 106/234 | Hostname | OS | Arch | BUILD | CHECK | BUILD BIN | 
| impute 1.10.0 Balasubramanian Narasimhan Last Changed Date: 2007-10-02 17:41:09 -0700 Last Changed Rev: 27709 | lamb1 | Linux (SUSE 10.1) | x86_64 | OK | OK | |
| wellington | Linux (SUSE 9.2) | i686 | OK | OK | ||
| liverpool | Windows Server 2003 R2 (32-bit) | x64 | OK | OK | OK | |
| pitt | Mac OS X (10.4.10) | i386 | OK | OK | [ OK ] | 
| Package: impute | 
| Version: 1.10.0 | 
| Command: /Users/biocbuild/BBS/utils/build-universal.sh impute_1.10.0.tar.gz /Library/Frameworks/R.framework/Resources/bin/R impute.buildbin-libdir | 
| RetCode: 0 | 
| Time: 4.8 seconds | 
| Status: OK | 
| PackageFile: impute_1.10.0.tgz | 
                    INSTALLATION WITH 'R CMD INSTALL impute_1.10.0.tar.gz'
* Installing to library 'impute.buildbin-libdir'
* Installing *source* package 'impute' ...
** libs
** arch - i386
gfortran-4.0 -arch i386  -isysroot /Developer/SDKs/MacOSX10.4u.sdk   -fPIC  -g -O2 -Wall -march=nocona -c knnimpute.f -o knnimpute.o
Warning: Nonconforming tab character in column 1 of line 89
Warning: Nonconforming tab character in column 1 of line 91
Warning: Nonconforming tab character in column 1 of line 92
Warning: Nonconforming tab character in column 1 of line 93
Warning: Nonconforming tab character in column 1 of line 94
Warning: Nonconforming tab character in column 1 of line 95
Warning: Nonconforming tab character in column 1 of line 96
Warning: Nonconforming tab character in column 1 of line 97
Warning: Nonconforming tab character in column 1 of line 98
Warning: Nonconforming tab character in column 1 of line 99
Warning: Nonconforming tab character in column 1 of line 100
Warning: Nonconforming tab character in column 1 of line 101
Warning: Nonconforming tab character in column 1 of line 102
Warning: Nonconforming tab character in column 1 of line 103
Warning: Nonconforming tab character in column 1 of line 104
Warning: Nonconforming tab character in column 1 of line 105
Warning: Nonconforming tab character in column 1 of line 106
Warning: Nonconforming tab character in column 1 of line 107
Warning: Nonconforming tab character in column 1 of line 108
Warning: Nonconforming tab character in column 1 of line 109
Warning: Nonconforming tab character in column 1 of line 110
Warning: Nonconforming tab character in column 1 of line 111
Warning: Nonconforming tab character in column 1 of line 112
Warning: Nonconforming tab character in column 1 of line 113
Warning: Nonconforming tab character in column 1 of line 114
Warning: Nonconforming tab character in column 1 of line 115
Warning: Nonconforming tab character in column 1 of line 116
Warning: Nonconforming tab character in column 1 of line 117
Warning: Nonconforming tab character in column 1 of line 118
Warning: Nonconforming tab character in column 1 of line 119
Warning: Nonconforming tab character in column 1 of line 120
Warning: Nonconforming tab character in column 1 of line 121
Warning: Nonconforming tab character in column 1 of line 122
knnimpute.f: In function 'twomis':
knnimpute.f:132: warning: 'dold' may be used uninitialized in this function
gcc-4.0 -arch i386 -isysroot /Developer/SDKs/MacOSX10.4u.sdk -std=gnu99 -dynamiclib -Wl,-macosx_version_min -Wl,10.3 -undefined dynamic_lookup -single_module -multiply_defined suppress -L/usr/local/lib -o impute.so knnimpute.o  -L/usr/local/lib/gcc/i686-apple-darwin8/4.2.1 -lgfortran -lgcc_s.10.4 -F/Library/Frameworks/R.framework/.. -framework R 
** arch - ppc
gfortran-4.0 -arch ppc  -isysroot /Developer/SDKs/MacOSX10.4u.sdk   -fPIC  -g -O2 -Wall -c knnimpute.f -o knnimpute.o
Warning: Nonconforming tab character in column 1 of line 89
Warning: Nonconforming tab character in column 1 of line 91
Warning: Nonconforming tab character in column 1 of line 92
Warning: Nonconforming tab character in column 1 of line 93
Warning: Nonconforming tab character in column 1 of line 94
Warning: Nonconforming tab character in column 1 of line 95
Warning: Nonconforming tab character in column 1 of line 96
Warning: Nonconforming tab character in column 1 of line 97
Warning: Nonconforming tab character in column 1 of line 98
Warning: Nonconforming tab character in column 1 of line 99
Warning: Nonconforming tab character in column 1 of line 100
Warning: Nonconforming tab character in column 1 of line 101
Warning: Nonconforming tab character in column 1 of line 102
Warning: Nonconforming tab character in column 1 of line 103
Warning: Nonconforming tab character in column 1 of line 104
Warning: Nonconforming tab character in column 1 of line 105
Warning: Nonconforming tab character in column 1 of line 106
Warning: Nonconforming tab character in column 1 of line 107
Warning: Nonconforming tab character in column 1 of line 108
Warning: Nonconforming tab character in column 1 of line 109
Warning: Nonconforming tab character in column 1 of line 110
Warning: Nonconforming tab character in column 1 of line 111
Warning: Nonconforming tab character in column 1 of line 112
Warning: Nonconforming tab character in column 1 of line 113
Warning: Nonconforming tab character in column 1 of line 114
Warning: Nonconforming tab character in column 1 of line 115
Warning: Nonconforming tab character in column 1 of line 116
Warning: Nonconforming tab character in column 1 of line 117
Warning: Nonconforming tab character in column 1 of line 118
Warning: Nonconforming tab character in column 1 of line 119
Warning: Nonconforming tab character in column 1 of line 120
Warning: Nonconforming tab character in column 1 of line 121
Warning: Nonconforming tab character in column 1 of line 122
knnimpute.f: In function 'twomis':
knnimpute.f:132: warning: 'dold' may be used uninitialized in this function
gcc-4.0 -arch ppc -isysroot /Developer/SDKs/MacOSX10.4u.sdk -std=gnu99 -dynamiclib -Wl,-macosx_version_min -Wl,10.3 -undefined dynamic_lookup -single_module -multiply_defined suppress -L/usr/local/lib -o impute.so knnimpute.o  -L/usr/local/lib/gcc/powerpc-apple-darwin8/4.2.1 -lgfortran -lgcc_s.10.4 -lSystemStubs -F/Library/Frameworks/R.framework/.. -framework R 
** R
** data
** help
 >>> Building/Updating help pages for package 'impute'
     Formats: text html latex example 
  impute.knn                        text    html    latex   example
  khanmiss                          text    html    latex   example
** building package indices ...
* DONE (impute)