Back to the "Multiple platform build/check report"
| Package 19/234 | Hostname | OS | Arch | BUILD | CHECK | BUILD BIN |
| AnnotationDbi 1.0.4 Biocore Team c/o BioC user list Last Changed Date: 2007-10-05 13:15:28 -0700 Last Changed Rev: 27793 | lamb1 | Linux (SUSE 10.1) | x86_64 | OK | OK | |
| wellington | Linux (SUSE 9.2) | i686 | OK | OK | ||
| liverpool | Windows Server 2003 R2 (32-bit) | x64 | OK | [ OK ] | OK | |
| pitt | Mac OS X (10.4.10) | i386 | OK | OK | OK |
| Package: AnnotationDbi |
| Version: 1.0.4 |
| Command: E:\biocbld\bbs-2.1-bioc\R\bin\R.exe CMD check AnnotationDbi_1.0.4.tar.gz |
| RetCode: 0 |
| Time: 270.7 seconds |
| Status: OK |
| CheckDir: AnnotationDbi.Rcheck |
| Warnings: 0 |
* checking for working latex ... OK * using log directory 'E:/biocbld/bbs-2.1-bioc/meat/AnnotationDbi.Rcheck' * using R version 2.6.0 (2007-10-03) * checking for file 'AnnotationDbi/DESCRIPTION' ... OK * this is package 'AnnotationDbi' version '1.0.4' * checking package name space information ... OK * checking package dependencies ... OK * checking if this is a source package ... OK * checking whether package 'AnnotationDbi' can be installed ... OK * checking package directory ... OK * checking for portable file names ... OK * checking DESCRIPTION meta-information ... OK * checking top-level files ... OK * checking index information ... OK * checking package subdirectories ... OK * checking R files for non-ASCII characters ... OK * checking R files for syntax errors ... OK * checking whether the package can be loaded ... OK * checking whether the package can be loaded with stated dependencies ... OK * checking whether the name space can be loaded with stated dependencies ... OK * checking for unstated dependencies in R code ... OK * checking S3 generic/method consistency ... OK * checking replacement functions ... OK * checking foreign function calls ... OK * checking R code for possible problems ... OK * checking Rd files ... OK * checking Rd cross-references ... OK * checking for missing documentation entries ... OK * checking for code/documentation mismatches ... OK * checking Rd \usage sections ... OK * creating AnnotationDbi-Ex.R ... OK * checking examples ... OK * checking package vignettes in 'inst/doc' ... OK * creating AnnotationDbi-manual.tex ... OK * checking AnnotationDbi-manual.tex ... OK
AnnotationDbi.Rcheck/00install.out:
installing R.css in E:/biocbld/bbs-2.1-bioc/meat/AnnotationDbi.Rcheck
---------- Making package AnnotationDbi ------------
adding build stamp to DESCRIPTION
installing NAMESPACE file and metadata
installing R files
installing inst files
installing man source files
installing indices
installing help
>>> Building/Updating help pages for package 'AnnotationDbi'
Formats: text html latex example chm
AnnDbBimap-envirAPI text html latex example chm
AnnDbObj-class text html latex example chm
AnnDbPkg-checker text html latex example chm
AnnDbPkg-maker text html latex example chm
AnnotationDbi-internals text html latex chm
Bimap-colmethods text html latex example chm
Bimap-direction text html latex example chm
Bimap-keymethods text html latex example chm
Bimap-toTable text html latex example chm
Bimap text html latex example chm
BimapFormatting text html latex example chm
GOTerms-class text html latex example chm
make_eg_to_go_map text html latex example chm
toSQLStringSet text html latex example chm
Microsoft HTML Help Compiler 4.74.8702
Compiling e:\biocbld\bbs-2.1-bioc\meat\AnnotationDbi.Rcheck\00_pkg_src\AnnotationDbi\chm\AnnotationDbi.chm
Compile time: 0 minutes, 1 second
15 Topics
307 Local links
1 Internet link
1 Graphic
Created e:\biocbld\bbs-2.1-bioc\meat\AnnotationDbi.Rcheck\00_pkg_src\AnnotationDbi\chm\AnnotationDbi.chm, 44,048 bytes
Compression decreased file by 93,317 bytes.
preparing package AnnotationDbi for lazy loading
Loading required package: Biobase
Loading required package: tools
Welcome to Bioconductor
Vignettes contain introductory material. To view, type
'openVignette()'. To cite Bioconductor, see
'citation("Biobase")' and for packages 'citation(pkgname)'.
Loading required package: DBI
Loading required package: RSQLite
Creating a new generic function for "toString" in "AnnotationDbi"
Creating a new generic function for "rev" in "AnnotationDbi"
Creating a new generic function for "colnames" in "AnnotationDbi"
Creating a new generic function for "subset" in "AnnotationDbi"
Creating a new generic function for "head" in "AnnotationDbi"
Creating a new generic function for "tail" in "AnnotationDbi"
Creating a new generic function for "nrow" in "AnnotationDbi"
Creating a new generic function for "ncol" in "AnnotationDbi"
Creating a new generic function for "as.list" in "AnnotationDbi"
Creating a new generic function for "ls" in "AnnotationDbi"
Creating a new generic function for "mget" in "AnnotationDbi"
Creating a new generic function for "eapply" in "AnnotationDbi"
Creating a new generic function for "get" in "AnnotationDbi"
Creating a new generic function for "exists" in "AnnotationDbi"
Creating a new generic function for "sample" in "AnnotationDbi"
adding MD5 sums
* DONE (AnnotationDbi)