Back to the "Multiple platform build/check report"
| Package 19/234 | Hostname | OS | Arch | BUILD | CHECK | BUILD BIN | 
| AnnotationDbi 1.0.4 Biocore Team c/o BioC user list Last Changed Date: 2007-10-05 13:15:28 -0700 Last Changed Rev: 27793  | lamb1 | Linux (SUSE 10.1) | x86_64 | OK | OK | |
| wellington | Linux (SUSE 9.2) | i686 | OK | OK | ||
| liverpool | Windows Server 2003 R2 (32-bit) | x64 | OK | OK | OK | |
| pitt | Mac OS X (10.4.10) | i386 | [ OK ] | OK | OK | 
| Package: AnnotationDbi | 
| Version: 1.0.4 | 
| Command: /Library/Frameworks/R.framework/Resources/bin/R CMD build AnnotationDbi | 
| RetCode: 0 | 
| Time: 43.7 seconds | 
| Status: OK | 
| PackageFile: AnnotationDbi_1.0.4.tar.gz | 
* checking for file 'AnnotationDbi/DESCRIPTION' ... OK
* preparing 'AnnotationDbi':
* checking DESCRIPTION meta-information ... OK
* installing the package to re-build vignettes
* Installing *source* package 'AnnotationDbi' ...
** R
** inst
** preparing package for lazy loading
Loading required package: Biobase
Loading required package: tools
Welcome to Bioconductor
  Vignettes contain introductory material. To view, type
  'openVignette()'. To cite Bioconductor, see
  'citation("Biobase")' and for packages 'citation(pkgname)'.
Loading required package: DBI
Loading required package: RSQLite
Creating a new generic function for "toString" in "AnnotationDbi"
Creating a new generic function for "rev" in "AnnotationDbi"
Creating a new generic function for "colnames" in "AnnotationDbi"
Creating a new generic function for "subset" in "AnnotationDbi"
Creating a new generic function for "head" in "AnnotationDbi"
Creating a new generic function for "tail" in "AnnotationDbi"
Creating a new generic function for "nrow" in "AnnotationDbi"
Creating a new generic function for "ncol" in "AnnotationDbi"
Creating a new generic function for "as.list" in "AnnotationDbi"
Creating a new generic function for "ls" in "AnnotationDbi"
Creating a new generic function for "mget" in "AnnotationDbi"
Creating a new generic function for "eapply" in "AnnotationDbi"
Creating a new generic function for "get" in "AnnotationDbi"
Creating a new generic function for "exists" in "AnnotationDbi"
Creating a new generic function for "sample" in "AnnotationDbi"
** help
 >>> Building/Updating help pages for package 'AnnotationDbi'
     Formats: text html latex example 
  AnnDbBimap-envirAPI               text    html    latex   example
  AnnDbObj-class                    text    html    latex   example
  AnnDbPkg-checker                  text    html    latex   example
  AnnDbPkg-maker                    text    html    latex   example
  AnnotationDbi-internals           text    html    latex
  Bimap-colmethods                  text    html    latex   example
  Bimap-direction                   text    html    latex   example
  Bimap-keymethods                  text    html    latex   example
  Bimap-toTable                     text    html    latex   example
  Bimap                             text    html    latex   example
  BimapFormatting                   text    html    latex   example
  GOTerms-class                     text    html    latex   example
  make_eg_to_go_map                 text    html    latex   example
  toSQLStringSet                    text    html    latex   example
** building package indices ...
* DONE (AnnotationDbi)
* creating vignettes ... OK
* removing junk files
* checking for LF line-endings in source and make files
* checking for empty or unneeded directories
WARNING: directory 'AnnotationDbi/inst/AnnDbPkg-templates/AFFYHUEX.DB/inst/extdata' is empty
WARNING: directory 'AnnotationDbi/inst/AnnDbPkg-templates/ARABIDOPSISCHIP.DB/inst/extdata' is empty
WARNING: directory 'AnnotationDbi/inst/AnnDbPkg-templates/FLY.DB/inst/extdata' is empty
WARNING: directory 'AnnotationDbi/inst/AnnDbPkg-templates/FLYCHIP.DB/inst/extdata' is empty
WARNING: directory 'AnnotationDbi/inst/AnnDbPkg-templates/GO.DB/inst/extdata' is empty
WARNING: directory 'AnnotationDbi/inst/AnnDbPkg-templates/HUMAN.DB/inst/extdata' is empty
WARNING: directory 'AnnotationDbi/inst/AnnDbPkg-templates/HUMANCHIP.DB/inst/extdata' is empty
WARNING: directory 'AnnotationDbi/inst/AnnDbPkg-templates/KEGG.DB/inst/extdata' is empty
WARNING: directory 'AnnotationDbi/inst/AnnDbPkg-templates/RODENT.DB/inst/extdata' is empty
WARNING: directory 'AnnotationDbi/inst/AnnDbPkg-templates/RODENTCHIP.DB/inst/extdata' is empty
WARNING: directory 'AnnotationDbi/inst/AnnDbPkg-templates/YEAST.DB/inst/extdata' is empty
WARNING: directory 'AnnotationDbi/inst/AnnDbPkg-templates/YEASTCHIP.DB/inst/extdata' is empty
* building 'AnnotationDbi_1.0.4.tar.gz'