Back to the "Multiple platform build/check report"
| Package 209/234 | Hostname | OS | Arch | BUILD | CHECK | BUILD BIN |
| sizepower 1.8.0 Weiliang Qiu Last Changed Date: 2007-10-02 17:41:09 -0700 Last Changed Rev: 27709 | lamb1 | Linux (SUSE 10.1) | x86_64 | OK | OK | |
| wellington | Linux (SUSE 9.2) | i686 | OK | OK | ||
| liverpool | Windows Server 2003 R2 (32-bit) | x64 | OK | OK | OK | |
| pitt | Mac OS X (10.4.10) | i386 | OK | OK | [ OK ] |
| Package: sizepower |
| Version: 1.8.0 |
| Command: /Users/biocbuild/BBS/utils/build-universal.sh sizepower_1.8.0.tar.gz /Library/Frameworks/R.framework/Resources/bin/R sizepower.buildbin-libdir |
| RetCode: 0 |
| Time: 2.5 seconds |
| Status: OK |
| PackageFile: sizepower_1.8.0.tgz |
INSTALLATION WITH 'R CMD INSTALL sizepower_1.8.0.tar.gz'
* Installing to library 'sizepower.buildbin-libdir'
* Installing *source* package 'sizepower' ...
** R
** inst
** help
>>> Building/Updating help pages for package 'sizepower'
Formats: text html latex example
powerMatched text html latex example
powerMulti text html latex example
powerRandomized text html latex example
sampleSizeMatched text html latex example
sampleSizeRandomized text html latex example
** building package indices ...
* DONE (sizepower)