Back to the "Multiple platform build/check report"
| Package 209/234 | Hostname | OS | Arch | BUILD | CHECK | BUILD BIN |
| sizepower 1.8.0 Weiliang Qiu Last Changed Date: 2007-10-02 17:41:09 -0700 Last Changed Rev: 27709 | lamb1 | Linux (SUSE 10.1) | x86_64 | OK | OK | |
| wellington | Linux (SUSE 9.2) | i686 | [ OK ] | OK | ||
| liverpool | Windows Server 2003 R2 (32-bit) | x64 | OK | OK | OK | |
| pitt | Mac OS X (10.4.10) | i386 | OK | OK | OK |
| Package: sizepower |
| Version: 1.8.0 |
| Command: /loc/biocbuild/bbs-2.1-bioc/R/bin/R CMD build sizepower |
| RetCode: 0 |
| Time: 14.8 seconds |
| Status: OK |
| PackageFile: sizepower_1.8.0.tar.gz |
* checking for file 'sizepower/DESCRIPTION' ... OK
* preparing 'sizepower':
* checking DESCRIPTION meta-information ... OK
* checking whether 'INDEX' is up-to-date ... NO
* use '--force' to overwrite the existing 'INDEX'
* installing the package to re-build vignettes
* Installing *source* package 'sizepower' ...
** R
** inst
** help
>>> Building/Updating help pages for package 'sizepower'
Formats: text html latex example
powerMatched text html latex example
powerMulti text html latex example
powerRandomized text html latex example
sampleSizeMatched text html latex example
sampleSizeRandomized text html latex example
** building package indices ...
* DONE (sizepower)
* creating vignettes ... OK
* removing junk files
* checking for LF line-endings in source and make files
* checking for empty or unneeded directories
* building 'sizepower_1.8.0.tar.gz'