Back to the "Multiple platform build/check report"
| Package 151/234 | Hostname | OS | Arch | BUILD | CHECK | BUILD BIN | 
| ontoTools 1.14.0 Vince Carey Last Changed Date: 2007-10-02 17:41:09 -0700 Last Changed Rev: 27709  | lamb1 | Linux (SUSE 10.1) | x86_64 | OK | [ OK ] | |
| wellington | Linux (SUSE 9.2) | i686 | OK | OK | ||
| liverpool | Windows Server 2003 R2 (32-bit) | x64 | OK | OK | OK | |
| pitt | Mac OS X (10.4.10) | i386 | OK | OK | OK | 
| Package: ontoTools | 
| Version: 1.14.0 | 
| Command: /home/biocbuild/bbs-2.1-bioc/R/bin/R CMD check ontoTools_1.14.0.tar.gz | 
| RetCode: 0 | 
| Time: 388.5 seconds | 
| Status: OK | 
| CheckDir: ontoTools.Rcheck | 
| Warnings: 0 | 
* checking for working latex ... OK * using log directory '/home/biocbuild/bbs-2.1-bioc/meat/ontoTools.Rcheck' * using R version 2.6.0 (2007-10-03) * checking for file 'ontoTools/DESCRIPTION' ... OK * this is package 'ontoTools' version '1.14.0' * checking package dependencies ... OK * checking if this is a source package ... OK * checking whether package 'ontoTools' can be installed ... OK * checking package directory ... OK * checking for portable file names ... OK * checking for sufficient/correct file permissions ... OK * checking DESCRIPTION meta-information ... OK * checking top-level files ... OK * checking index information ... OK * checking package subdirectories ... OK * checking R files for non-ASCII characters ... OK * checking R files for syntax errors ... OK * checking whether the package can be loaded ... OK * checking whether the package can be loaded with stated dependencies ... OK * checking for unstated dependencies in R code ... OK * checking S3 generic/method consistency ... OK * checking replacement functions ... OK * checking foreign function calls ... OK * checking R code for possible problems ... OK * checking Rd files ... OK * checking Rd cross-references ... OK * checking for missing documentation entries ... OK * checking for code/documentation mismatches ... OK * checking Rd \usage sections ... OK * checking data for non-ASCII characters ... OK * creating ontoTools-Ex.R ... OK * checking examples ... OK * checking package vignettes in 'inst/doc' ... OK * creating ontoTools-manual.tex ... OK * checking ontoTools-manual.tex ... OK
ontoTools.Rcheck/00install.out:
* Installing *source* package 'ontoTools' ...
** R
** data
** inst
** preparing package for lazy loading
Loading required package: graph
Loading required package: SparseM
Package SparseM (0.73) loaded.  To cite, see citation("SparseM")
Loading required package: GO
Loading required package: Biobase
Loading required package: tools
Welcome to Bioconductor
  Vignettes contain introductory material. To view, type
  'openVignette()'. To cite Bioconductor, see
  'citation("Biobase")' and for packages 'citation(pkgname)'.
Loading required package: annotate
Loading required package: AnnotationDbi
Loading required package: DBI
Loading required package: RSQLite
Loading required package: xtable
Creating a new generic function for "grep" in "ontoTools"
** help
 >>> Building/Updating help pages for package 'ontoTools'
     Formats: text html latex example 
  A.csr                             text    html    latex
  GDI                               text    html    latex   example
  LLGOMFcp                          text    html    latex
  OOC-class                         text    html    latex   example
  SGDIvocab                         text    html    latex   example
  STMA                              text    html    latex   example
  accessMat                         text    html    latex   example
  buildGOgraph                      text    html    latex   example
  compoundGraph-class               text    html    latex   example
  depthStruct                       text    html    latex   example
  gomfAmat                          text    html    latex
  litOnto                           text    html    latex
  namedSparse-class                 text    html    latex   example
  ontology-class                    text    html    latex   example
  ooMapLL2GOMFdemo                  text    html    latex
  otkvEnv2namedSparse               text    html    latex   example
  rootedDAG-class                   text    html    latex   example
  semsim                            text    html    latex   example
  taggedHierNomenclature-class      text    html    latex   example
  toDot-methods                     text    html    latex   example
** building package indices ...
* DONE (ontoTools)