Back to the "Multiple platform build/check report"
| Package 97/234 | Hostname | OS | Arch | BUILD | CHECK | BUILD BIN | 
| GSEABase 1.0.1 Biocore Team c/o BioC user list Last Changed Date: 2007-10-05 12:41:11 -0700 Last Changed Rev: 27791  | lamb1 | Linux (SUSE 10.1) | x86_64 | OK | OK | |
| wellington | Linux (SUSE 9.2) | i686 | OK | OK | ||
| liverpool | Windows Server 2003 R2 (32-bit) | x64 | OK | WARNINGS | OK | |
| pitt | Mac OS X (10.4.10) | i386 | OK | OK | [ OK ] | 
| Package: GSEABase | 
| Version: 1.0.1 | 
| Command: /Users/biocbuild/BBS/utils/build-universal.sh GSEABase_1.0.1.tar.gz /Library/Frameworks/R.framework/Resources/bin/R GSEABase.buildbin-libdir | 
| RetCode: 0 | 
| Time: 13.8 seconds | 
| Status: OK | 
| PackageFile: GSEABase_1.0.1.tgz | 
                    INSTALLATION WITH 'R CMD INSTALL GSEABase_1.0.1.tar.gz'
* Installing to library 'GSEABase.buildbin-libdir'
* Installing *source* package 'GSEABase' ...
** R
** inst
** preparing package for lazy loading
Loading required package: Biobase
Loading required package: tools
Welcome to Bioconductor
  Vignettes contain introductory material. To view, type
  'openVignette()'. To cite Bioconductor, see
  'citation("Biobase")' and for packages 'citation(pkgname)'.
Loading required package: AnnotationDbi
Loading required package: DBI
Loading required package: RSQLite
** help
 >>> Building/Updating help pages for package 'GSEABase'
     Formats: text html latex example 
  CollectionType-class              text    html    latex   example
  CollectionType-constructors       text    html    latex   example
  GSEABase-package                  text    html    latex   example
  GeneColorSet-class                text    html    latex   example
  GeneColorSet-methods              text    html    latex
  GeneIdentifierType-class          text    html    latex   example
  GeneIdentifierType-constructors   text    html    latex   example
  GeneSet-class                     text    html    latex   example
  GeneSet-methods                   text    html    latex   example
  GeneSetCollection-class           text    html    latex   example
  GeneSetCollection-methods         text    html    latex   example
  details-methods                   text    html    latex
  getBroadSets                      text    html    latex   example
  incidence-methods                 text    html    latex   example
  mapIdentifiers-methods            text    html    latex
** building package indices ...
* DONE (GSEABase)