Back to the "Multiple platform build/check report"
| Package 227/234 | Hostname | OS | Arch | BUILD | CHECK | BUILD BIN | 
| VanillaICE 1.0.0 Robert Scharpf Last Changed Date: 2007-10-02 17:41:09 -0700 Last Changed Rev: 27709  | lamb1 | Linux (SUSE 10.1) | x86_64 | OK | OK | |
| wellington | Linux (SUSE 9.2) | i686 | OK | OK | ||
| liverpool | Windows Server 2003 R2 (32-bit) | x64 | OK | OK | OK | |
| pitt | Mac OS X (10.4.10) | i386 | OK | OK | [ OK ] | 
| Package: VanillaICE | 
| Version: 1.0.0 | 
| Command: /Users/biocbuild/BBS/utils/build-universal.sh VanillaICE_1.0.0.tar.gz /Library/Frameworks/R.framework/Resources/bin/R VanillaICE.buildbin-libdir | 
| RetCode: 0 | 
| Time: 11.1 seconds | 
| Status: OK | 
| PackageFile: VanillaICE_1.0.0.tgz | 
                    INSTALLATION WITH 'R CMD INSTALL VanillaICE_1.0.0.tar.gz'
* Installing to library 'VanillaICE.buildbin-libdir'
* Installing *source* package 'VanillaICE' ...
** R
** data
** inst
** preparing package for lazy loading
Loading required package: SNPchip
Loading required package: Biobase
Loading required package: tools
Welcome to Bioconductor
  Vignettes contain introductory material. To view, type
  'openVignette()'. To cite Bioconductor, see
  'citation("Biobase")' and for packages 'citation(pkgname)'.
Loading required package: oligoClasses
** help
 >>> Building/Updating help pages for package 'VanillaICE'
     Formats: text html latex example 
  HmmSnpCallSet-class               text    html    latex   example
  HmmSnpCopyNumberSet-class         text    html    latex   example
  HmmSnpSet-class                   text    html    latex   example
  ParHSet-class                     text    html    latex   example
  ParHmmSnpCallSet-class            text    html    latex   example
  ParHmmSnpCopyNumberSet-class      text    html    latex   example
  ParHmmSnpSet-class                text    html    latex   example
  bind                              text    html    latex   example
  breakpoints                       text    html    latex   example
  byArm                             text    html    latex   example
  calculateEmissionProbability      text    html    latex   example
  callEmission                      text    html    latex   example
  callsIce                          text    html    latex   example
  chromosome1                       text    html    latex   example
  chromosomeArm                     text    html    latex   example
  copyNumberIce                     text    html    latex   example
  distance                          text    html    latex   example
  emissionProbability               text    html    latex   example
  getCallEmission                   text    html    latex   example
  getCopyNumberLocation             text    html    latex   example
  getCopyNumberScale                text    html    latex   example
  getHapmapProbabilities            text    html    latex   example
  getInitialStateProbability        text    html    latex   example
  getLohProbability                 text    html    latex   example
  getTransitionProbability          text    html    latex   example
  hSet-class                        text    html    latex   example
  hapmapProbabilities               text    html    latex   example
  hmm                               text    html    latex   example
  hmmBySample                       text    html    latex   example
  initialStateProbability           text    html    latex   example
  isMissing                         text    html    latex   example
  likelihood                        text    html    latex   example
  locationCopyNumber                text    html    latex   example
  numberStates                      text    html    latex   example
  pCHOM                             text    html    latex   example
  plotPredictions                   text    html    latex   example
  predictions                       text    html    latex   example
  scaleCopyNumber                   text    html    latex   example
  stateNames                        text    html    latex   example
  transitionProbability             text    html    latex   example
  viterbi                           text    html    latex   example
** building package indices ...
* DONE (VanillaICE)