Back to the "Multiple platform build/check report"
| Package 165/234 | Hostname | OS | Arch | BUILD | CHECK | BUILD BIN | 
| plgem 1.10.0 Mattia Pelizzola Last Changed Date: 2007-10-02 17:41:09 -0700 Last Changed Rev: 27709  | lamb1 | Linux (SUSE 10.1) | x86_64 | OK | OK | |
| wellington | Linux (SUSE 9.2) | i686 | OK | OK | ||
| liverpool | Windows Server 2003 R2 (32-bit) | x64 | OK | OK | OK | |
| pitt | Mac OS X (10.4.10) | i386 | OK | OK | [ OK ] | 
| Package: plgem | 
| Version: 1.10.0 | 
| Command: /Users/biocbuild/BBS/utils/build-universal.sh plgem_1.10.0.tar.gz /Library/Frameworks/R.framework/Resources/bin/R plgem.buildbin-libdir | 
| RetCode: 0 | 
| Time: 3.0 seconds | 
| Status: OK | 
| PackageFile: plgem_1.10.0.tgz | 
                    INSTALLATION WITH 'R CMD INSTALL plgem_1.10.0.tar.gz'
* Installing to library 'plgem.buildbin-libdir'
* Installing *source* package 'plgem' ...
** R
** data
** inst
** help
 >>> Building/Updating help pages for package 'plgem'
     Formats: text html latex example 
  LPSeset                           text    html    latex   example
  plgem.deg                         text    html    latex   example
  plgem.fit                         text    html    latex   example
  plgem.obsStn                      text    html    latex   example
  plgem.write.summary               text    html    latex   example
  run.plgem                         text    html    latex   example
** building package indices ...
* DONE (plgem)