Back to the "Multiple platform build/check report"
| Package 160/234 | Hostname | OS | Arch | BUILD | CHECK | BUILD BIN | 
| pdmclass 1.10.0 James W. MacDonald Last Changed Date: 2007-10-02 17:41:09 -0700 Last Changed Rev: 27709  | lamb1 | Linux (SUSE 10.1) | x86_64 | OK | OK | |
| wellington | Linux (SUSE 9.2) | i686 | OK | OK | ||
| liverpool | Windows Server 2003 R2 (32-bit) | x64 | OK | OK | OK | |
| pitt | Mac OS X (10.4.10) | i386 | [ OK ] | OK | OK | 
| Package: pdmclass | 
| Version: 1.10.0 | 
| Command: /Library/Frameworks/R.framework/Resources/bin/R CMD build pdmclass | 
| RetCode: 0 | 
| Time: 89.0 seconds | 
| Status: OK | 
| PackageFile: pdmclass_1.10.0.tar.gz | 
* checking for file 'pdmclass/DESCRIPTION' ... OK
* preparing 'pdmclass':
* checking DESCRIPTION meta-information ... OK
* installing the package to re-build vignettes
* Installing *source* package 'pdmclass' ...
** R
** inst
** help
 >>> Building/Updating help pages for package 'pdmclass'
     Formats: text html latex example 
  my.svd                            text    html    latex
  pdmClass                          text    html    latex   example
  pdmClass.cv                       text    html    latex   example
  pdmGenes                          text    html    latex   example
  pls1c                             text    html    latex
  predict.pls                       text    html    latex   example
  svdpls1c                          text    html    latex
  svdr                              text    html    latex
** building package indices ...
* DONE (pdmclass)
* creating vignettes ... OK
* removing junk files
* checking for LF line-endings in source and make files
* checking for empty or unneeded directories
* building 'pdmclass_1.10.0.tar.gz'