Back to the "Multiple platform build/check report"
| Package 65/234 | Hostname | OS | Arch | BUILD | CHECK | BUILD BIN |
| ecolitk 1.10.0 Laurent Last Changed Date: 2007-10-02 17:41:09 -0700 Last Changed Rev: 27709 | lamb1 | Linux (SUSE 10.1) | x86_64 | OK | WARNINGS | |
| wellington | Linux (SUSE 9.2) | i686 | OK | WARNINGS | ||
| liverpool | Windows Server 2003 R2 (32-bit) | x64 | OK | WARNINGS | OK | |
| pitt | Mac OS X (10.4.10) | i386 | OK | WARNINGS | [ OK ] |
| Package: ecolitk |
| Version: 1.10.0 |
| Command: /Users/biocbuild/BBS/utils/build-universal.sh ecolitk_1.10.0.tar.gz /Library/Frameworks/R.framework/Resources/bin/R ecolitk.buildbin-libdir |
| RetCode: 0 |
| Time: 5.6 seconds |
| Status: OK |
| PackageFile: ecolitk_1.10.0.tgz |
INSTALLATION WITH 'R CMD INSTALL ecolitk_1.10.0.tar.gz'
* Installing to library 'ecolitk.buildbin-libdir'
* Installing *source* package 'ecolitk' ...
** R
** data
** inst
** help
Note: unmatched right brace in 'linkedmultiget' on or after line 6
Note: unmatched right brace in 'wstringapply' on or after line 6
>>> Building/Updating help pages for package 'ecolitk'
Formats: text html latex example
ecoli.data text html latex example
ecoligenome.operon text html latex example
ecoligenomeBNUM text html latex
ecoligenomeBNUM2MULTIFUN text html latex
gccontent text html latex
linkedmultiget text html latex example
multiFun text html latex example
pointsCircle text html latex example
polar2xy text html latex example
polygonChrom text html latex example
wstringapply text html latex example
** building package indices ...
* DONE (ecolitk)