Back to the "Multiple platform build/check report"
| Package 65/234 | Hostname | OS | Arch | BUILD | CHECK | BUILD BIN | 
| ecolitk 1.10.0 Laurent Last Changed Date: 2007-10-02 17:41:09 -0700 Last Changed Rev: 27709 | lamb1 | Linux (SUSE 10.1) | x86_64 | OK | WARNINGS | |
| wellington | Linux (SUSE 9.2) | i686 | OK | WARNINGS | ||
| liverpool | Windows Server 2003 R2 (32-bit) | x64 | OK | WARNINGS | [ OK ] | |
| pitt | Mac OS X (10.4.10) | i386 | OK | WARNINGS | OK | 
| Package: ecolitk | 
| Version: 1.10.0 | 
| Command: E:\biocbld\bbs-2.1-bioc\R\bin\R.exe CMD INSTALL --build --library=ecolitk.buildbin-libdir ecolitk_1.10.0.tar.gz | 
| RetCode: 0 | 
| Time: 17.5 seconds | 
| Status: OK | 
| PackageFile: ecolitk_1.10.0.zip | 
installing R.css in E:/biocbld/bbs-2.1-bioc/meat/ecolitk.buildbin-libdir
Using auto-selected zip options 'ecolitk-ZIPDATA=zip'
---------- Making package ecolitk ------------
  adding build stamp to DESCRIPTION
  installing R files
  installing inst files
  installing data files
  installing man source files
  installing indices
  zipping data
  installing help
Note: unmatched right brace in 'linkedmultiget' on or after line 6
Note: unmatched right brace in 'linkedmultiget.Rd' on or after line 6
Note: unmatched right brace in 'wstringapply' on or after line 6
Note: unmatched right brace in 'wstringapply.Rd' on or after line 6
 >>> Building/Updating help pages for package 'ecolitk'
     Formats: text html latex example chm 
  ecoli.data                        text    html    latex   example chm
  ecoligenome.operon                text    html    latex   example chm
  ecoligenomeBNUM                   text    html    latex           chm
  ecoligenomeBNUM2MULTIFUN          text    html    latex           chm
  gccontent                         text    html    latex           chm
  linkedmultiget                    text    html    latex   example chm
  multiFun                          text    html    latex   example chm
  pointsCircle                      text    html    latex   example chm
  polar2xy                          text    html    latex   example chm
  polygonChrom                      text    html    latex   example chm
  wstringapply                      text    html    latex   example chm
Microsoft HTML Help Compiler 4.74.8702
Compiling e:\biocbld\bbs-2.1-bioc\meat\R.INSTALL.1640\ecolitk\chm\ecolitk.chm
Compile time: 0 minutes, 0 seconds
12	Topics
45	Local links
4	Internet links
1	Graphic
Created e:\biocbld\bbs-2.1-bioc\meat\R.INSTALL.1640\ecolitk\chm\ecolitk.chm, 29,496 bytes
Compression decreased file by 13,471 bytes.
  adding MD5 sums
packaged installation of package 'ecolitk' as ecolitk_1.10.0.zip
* DONE (ecolitk)