Back to the "Multiple platform build/check report"
| Package 192/234 | Hostname | OS | Arch | BUILD | CHECK | BUILD BIN | 
| ROC 1.12.0 Vince Carey Last Changed Date: 2007-10-02 17:41:09 -0700 Last Changed Rev: 27709  | lamb1 | Linux (SUSE 10.1) | x86_64 | OK | OK | |
| wellington | Linux (SUSE 9.2) | i686 | OK | OK | ||
| liverpool | Windows Server 2003 R2 (32-bit) | x64 | [ OK ] | OK | OK | |
| pitt | Mac OS X (10.4.10) | i386 | OK | OK | OK | 
| Package: ROC | 
| Version: 1.12.0 | 
| Command: E:\biocbld\bbs-2.1-bioc\R\bin\R.exe CMD build ROC | 
| RetCode: 0 | 
| Time: 23.6 seconds | 
| Status: OK | 
| PackageFile: ROC_1.12.0.tar.gz | 
* checking for file 'ROC/DESCRIPTION' ... OK
* preparing 'ROC':
* checking DESCRIPTION meta-information ... OK
* cleaning src
* installing the package to re-build vignettes
installing R.css in E:/biocbld/bbs-2.1-bioc/tmpdir/Rinst223213223
---------- Making package ROC ------------
  adding build stamp to DESCRIPTION
  installing NAMESPACE file and metadata
  making DLL ...
making ROC.d from ROC.cc
g++-sjlj   -Ie:/biocbld/bbs-2.1-bioc/R/include    -Wall -O2  -c ROC.cc -o ROC.o
windres --preprocessor="gcc-sjlj -E -xc -DRC_INVOKED" -I e:/biocbld/bbs-2.1-bioc/R/include  -i ROC_res.rc -o ROC_res.o
g++-sjlj   -shared -s  -o ROC.dll ROC.def ROC.o ROC_res.o  -Le:/biocbld/bbs-2.1-bioc/R/bin    -lR
  ... DLL made
  installing DLL
  installing R files
  installing inst files
  preparing package ROC for lazy loading
  installing man source files
  installing indices
  installing help
 >>> Building/Updating help pages for package 'ROC'
     Formats: text html latex example chm 
  AUC                               text    html    latex   example chm
  plot-methods                      text    html    latex   example chm
  rocc-class                        text    html    latex   example chm
  rocdemo.sca                       text    html    latex   example chm
  trapezint                         text    html    latex   example chm
Microsoft HTML Help Compiler 4.74.8702
Compiling e:\biocbld\bbs-2.1-bioc\meat\ROC\chm\ROC.chm
Compile time: 0 minutes, 0 seconds
6	Topics
18	Local links
0	Internet links
1	Graphic
Created e:\biocbld\bbs-2.1-bioc\meat\ROC\chm\ROC.chm, 21,692 bytes
Compression increased file by 1,299 bytes.
  adding MD5 sums
* DONE (ROC)
* creating vignettes ... OK
* cleaning src
* removing junk files
* checking for LF line-endings in source and make files
* checking for empty or unneeded directories
* building 'ROC_1.12.0.tar.gz'