Back to the "Multiple platform build/check report"
| Package 84/234 | Hostname | OS | Arch | BUILD | CHECK | BUILD BIN | 
| GeneticsDesign 1.4.0 Weiliang Qiu Last Changed Date: 2007-10-02 17:41:09 -0700 Last Changed Rev: 27709  | lamb1 | Linux (SUSE 10.1) | x86_64 | OK | OK | |
| wellington | Linux (SUSE 9.2) | i686 | OK | OK | ||
| liverpool | Windows Server 2003 R2 (32-bit) | x64 | OK | OK | [ OK ] | |
| pitt | Mac OS X (10.4.10) | i386 | OK | OK | OK | 
| Package: GeneticsDesign | 
| Version: 1.4.0 | 
| Command: E:\biocbld\bbs-2.1-bioc\R\bin\R.exe CMD INSTALL --build --library=GeneticsDesign.buildbin-libdir GeneticsDesign_1.4.0.tar.gz | 
| RetCode: 0 | 
| Time: 15.5 seconds | 
| Status: OK | 
| PackageFile: GeneticsDesign_1.4.0.zip | 
installing R.css in E:/biocbld/bbs-2.1-bioc/meat/GeneticsDesign.buildbin-libdir
Using auto-selected zip options ''
---------- Making package GeneticsDesign ------------
  adding build stamp to DESCRIPTION
  installing NAMESPACE file and metadata
  installing R files
  installing inst files
  installing man source files
  installing indices
  installing help
 >>> Building/Updating help pages for package 'GeneticsDesign'
     Formats: text html latex example chm 
  GPC                               text    html    latex   example chm
  gregorius                         text    html    latex   example chm
  power.casectlr                    text    html    latex   example chm
  power.genotype.conti              text    html    latex   example chm
Microsoft HTML Help Compiler 4.74.8702
Compiling e:\biocbld\bbs-2.1-bioc\meat\R.INSTALL.1760\GeneticsDesign\chm\GeneticsDesign.chm
Compile time: 0 minutes, 0 seconds
5	Topics
10	Local links
0	Internet links
1	Graphic
Created e:\biocbld\bbs-2.1-bioc\meat\R.INSTALL.1760\GeneticsDesign\chm\GeneticsDesign.chm, 26,991 bytes
Compression decreased file by 61 bytes.
  adding MD5 sums
packaged installation of package 'GeneticsDesign' as GeneticsDesign_1.4.0.zip
* DONE (GeneticsDesign)