Back to the "Multiple platform build/check report"
| Package 197/234 | Hostname | OS | Arch | BUILD | CHECK | BUILD BIN | 
| safe 1.10.0 William T. Barry Last Changed Date: 2007-10-02 17:41:09 -0700 Last Changed Rev: 27709  | lamb1 | Linux (SUSE 10.1) | x86_64 | OK | OK | |
| wellington | Linux (SUSE 9.2) | i686 | OK | OK | ||
| liverpool | Windows Server 2003 R2 (32-bit) | x64 | OK | OK | OK | |
| pitt | Mac OS X (10.4.10) | i386 | OK | OK | [ OK ] | 
| Package: safe | 
| Version: 1.10.0 | 
| Command: /Users/biocbuild/BBS/utils/build-universal.sh safe_1.10.0.tar.gz /Library/Frameworks/R.framework/Resources/bin/R safe.buildbin-libdir | 
| RetCode: 0 | 
| Time: 3.8 seconds | 
| Status: OK | 
| PackageFile: safe_1.10.0.tgz | 
                    INSTALLATION WITH 'R CMD INSTALL safe_1.10.0.tar.gz'
* Installing to library 'safe.buildbin-libdir'
* Installing *source* package 'safe' ...
** R
** inst
** help
 >>> Building/Updating help pages for package 'safe'
     Formats: text html latex example 
  SAFE-class                        text    html    latex
  getCmatrix                        text    html    latex   example
  getPImatrix                       text    html    latex   example
  safe-internal                     text    html    latex
  safe                              text    html    latex   example
  safeplot                          text    html    latex   example
** building package indices ...
* DONE (safe)