Back to the "Multiple platform build/check report"
| Package 197/234 | Hostname | OS | Arch | BUILD | CHECK | BUILD BIN |
| safe 1.10.0 William T. Barry Last Changed Date: 2007-10-02 17:41:09 -0700 Last Changed Rev: 27709 | lamb1 | Linux (SUSE 10.1) | x86_64 | OK | OK | |
| wellington | Linux (SUSE 9.2) | i686 | OK | OK | ||
| liverpool | Windows Server 2003 R2 (32-bit) | x64 | [ OK ] | OK | OK | |
| pitt | Mac OS X (10.4.10) | i386 | OK | OK | OK |
| Package: safe |
| Version: 1.10.0 |
| Command: E:\biocbld\bbs-2.1-bioc\R\bin\R.exe CMD build safe |
| RetCode: 0 |
| Time: 90.9 seconds |
| Status: OK |
| PackageFile: safe_1.10.0.tar.gz |
* checking for file 'safe/DESCRIPTION' ... OK
* preparing 'safe':
* checking DESCRIPTION meta-information ... OK
* installing the package to re-build vignettes
installing R.css in E:/biocbld/bbs-2.1-bioc/tmpdir/Rinst103636111
---------- Making package safe ------------
adding build stamp to DESCRIPTION
installing R files
installing inst files
installing man source files
installing indices
installing help
>>> Building/Updating help pages for package 'safe'
Formats: text html latex example chm
SAFE-class text html latex chm
getCmatrix text html latex example chm
getPImatrix text html latex example chm
safe-internal text html latex chm
safe text html latex example chm
safeplot text html latex example chm
Microsoft HTML Help Compiler 4.74.8702
Compiling e:\biocbld\bbs-2.1-bioc\meat\safe\chm\safe.chm
Compile time: 0 minutes, 0 seconds
7 Topics
26 Local links
0 Internet links
1 Graphic
Created e:\biocbld\bbs-2.1-bioc\meat\safe\chm\safe.chm, 27,855 bytes
Compression decreased file by 4,749 bytes.
adding MD5 sums
* DONE (safe)
* creating vignettes ... OK
* removing junk files
* checking for LF line-endings in source and make files
* checking for empty or unneeded directories
* building 'safe_1.10.0.tar.gz'