Back to the "Multiple platform build/check report"
| Package 87/234 | Hostname | OS | Arch | BUILD | CHECK | BUILD BIN |
| GEOquery 2.2.0 Sean Davis Last Changed Date: 2007-10-02 17:41:09 -0700 Last Changed Rev: 27709 | lamb1 | Linux (SUSE 10.1) | x86_64 | OK | OK | |
| wellington | Linux (SUSE 9.2) | i686 | ERROR | skipped | ||
| liverpool | Windows Server 2003 R2 (32-bit) | x64 | [ OK ] | OK | OK | |
| pitt | Mac OS X (10.4.10) | i386 | ERROR | skipped | skipped |
| Package: GEOquery |
| Version: 2.2.0 |
| Command: E:\biocbld\bbs-2.1-bioc\R\bin\R.exe CMD build GEOquery |
| RetCode: 0 |
| Time: 41.8 seconds |
| Status: OK |
| PackageFile: GEOquery_2.2.0.tar.gz |
* checking for file 'GEOquery/DESCRIPTION' ... OK
* preparing 'GEOquery':
* checking DESCRIPTION meta-information ... OK
* installing the package to re-build vignettes
installing R.css in E:/biocbld/bbs-2.1-bioc/tmpdir/Rinst484832397
---------- Making package GEOquery ------------
adding build stamp to DESCRIPTION
installing NAMESPACE file and metadata
installing R files
installing inst files
installing man source files
installing indices
installing help
>>> Building/Updating help pages for package 'GEOquery'
Formats: text html latex example chm
GDS-class text html latex chm
GDS2MA text html latex example chm
GEOData-class text html latex chm
GEODataTable-class text html latex chm
GPL-class text html latex chm
GSE-class text html latex chm
GSM-class text html latex chm
dataTable text html latex chm
getGEO text html latex example chm
getGEOfile text html latex example chm
gunzip text html latex chm
parseGEO text html latex chm
Microsoft HTML Help Compiler 4.74.8702
Compiling e:\biocbld\bbs-2.1-bioc\meat\GEOquery\chm\GEOquery.chm
Compile time: 0 minutes, 1 second
13 Topics
63 Local links
1 Internet link
1 Graphic
Created e:\biocbld\bbs-2.1-bioc\meat\GEOquery\chm\GEOquery.chm, 30,617 bytes
Compression decreased file by 13,692 bytes.
adding MD5 sums
* DONE (GEOquery)
* creating vignettes ... OK
* removing junk files
* checking for LF line-endings in source and make files
* checking for empty or unneeded directories
* building 'GEOquery_2.2.0.tar.gz'