Back to the "Multiple platform build/check report"
| Package 39/234 | Hostname | OS | Arch | BUILD | CHECK | BUILD BIN |
| BSgenome 1.6.0 H. Pages Last Changed Date: 2007-10-02 17:41:09 -0700 Last Changed Rev: 27709 | lamb1 | Linux (SUSE 10.1) | x86_64 | OK | OK | |
| wellington | Linux (SUSE 9.2) | i686 | OK | OK | ||
| liverpool | Windows Server 2003 R2 (32-bit) | x64 | OK | OK | OK | |
| pitt | Mac OS X (10.4.10) | i386 | OK | OK | [ OK ] |
| Package: BSgenome |
| Version: 1.6.0 |
| Command: /Users/biocbuild/BBS/utils/build-universal.sh BSgenome_1.6.0.tar.gz /Library/Frameworks/R.framework/Resources/bin/R BSgenome.buildbin-libdir |
| RetCode: 0 |
| Time: 6.8 seconds |
| Status: OK |
| PackageFile: BSgenome_1.6.0.tgz |
INSTALLATION WITH 'R CMD INSTALL BSgenome_1.6.0.tar.gz'
* Installing to library 'BSgenome.buildbin-libdir'
* Installing *source* package 'BSgenome' ...
** R
** preparing package for lazy loading
Loading required package: Biobase
Loading required package: tools
Welcome to Bioconductor
Vignettes contain introductory material. To view, type
'openVignette()'. To cite Bioconductor, see
'citation("Biobase")' and for packages 'citation(pkgname)'.
Loading required package: Biostrings
** help
>>> Building/Updating help pages for package 'BSgenome'
Formats: text html latex example
BSgenome-class text html latex example
available.genomes text html latex example
buildDataFiles text html latex example
getSeq text html latex example
** building package indices ...
* DONE (BSgenome)