Back to the "Multiple platform build/check report"
| Package 4/234 | Hostname | OS | Arch | BUILD | CHECK | BUILD BIN | 
| adSplit 1.8.0 Claudio Lottaz Last Changed Date: 2007-10-02 17:41:09 -0700 Last Changed Rev: 27709  | lamb1 | Linux (SUSE 10.1) | x86_64 | OK | OK | |
| wellington | Linux (SUSE 9.2) | i686 | OK | OK | ||
| liverpool | Windows Server 2003 R2 (32-bit) | x64 | [ OK ] | OK | OK | |
| pitt | Mac OS X (10.4.10) | i386 | OK | OK | OK | 
| Package: adSplit | 
| Version: 1.8.0 | 
| Command: E:\biocbld\bbs-2.1-bioc\R\bin\R.exe CMD build adSplit | 
| RetCode: 0 | 
| Time: 62.4 seconds | 
| Status: OK | 
| PackageFile: adSplit_1.8.0.tar.gz | 
* checking for file 'adSplit/DESCRIPTION' ... OK
* preparing 'adSplit':
* checking DESCRIPTION meta-information ... OK
* cleaning src
* installing the package to re-build vignettes
installing R.css in E:/biocbld/bbs-2.1-bioc/tmpdir/Rinst218063104
---------- Making package adSplit ------------
  adding build stamp to DESCRIPTION
  installing NAMESPACE file and metadata
  making DLL ...
making adSplit.d from adSplit.cpp
g++-sjlj   -Ie:/biocbld/bbs-2.1-bioc/R/include    -Wall -O2  -c adSplit.cpp -o adSplit.o
adSplit.cpp: In function 'double tscore(double*, int, int, split&, isis_pars&)':
adSplit.cpp:253: warning: deprecated conversion from string constant to 'char*'
adSplit.cpp: In function 'void isis(char**, double*, int*, int*, int*, int*, int*, double*, int*)':
adSplit.cpp:466: warning: deprecated conversion from string constant to 'char*'
windres --preprocessor="gcc-sjlj -E -xc -DRC_INVOKED" -I e:/biocbld/bbs-2.1-bioc/R/include  -i adSplit_res.rc -o adSplit_res.o
g++-sjlj   -shared -s  -o adSplit.dll adSplit.def adSplit.o adSplit_res.o  -Le:/biocbld/bbs-2.1-bioc/R/bin    -lR
  ... DLL made
  installing DLL
  installing R files
  installing inst files
  installing data files
  preparing package adSplit for lazy loading
Loading required package: cluster
Loading required package: multtest
Loading required package: Biobase
Loading required package: tools
Welcome to Bioconductor
  Vignettes contain introductory material. To view, type
  'openVignette()'. To cite Bioconductor, see
  'citation("Biobase")' and for packages 'citation(pkgname)'.
Loading required package: survival
Loading required package: splines
Loading required package: affy
Loading required package: affyio
Loading required package: preprocessCore
Loading required package: GO
Loading required package: KEGG
  installing man source files
  installing indices
  not zipping data
  installing help
 >>> Building/Updating help pages for package 'adSplit'
     Formats: text html latex example chm 
  adSplit-internal                  text    html    latex           chm
  adSplit                           text    html    latex   example chm
  diana2means                       text    html    latex   example chm
  drawRandomPS                      text    html    latex   example chm
  golubKEGGSplits                   text    html    latex   example chm
  hist.splitSet                     text    html    latex   example chm
  image.splitSet                    text    html    latex   example chm
  makeEID2PROBESenv                 text    html    latex   example chm
  print.split                       text    html    latex           chm
  print.splitSet                    text    html    latex   example chm
  randomDiana2means                 text    html    latex   example chm
Microsoft HTML Help Compiler 4.74.8702
Compiling e:\biocbld\bbs-2.1-bioc\meat\adSplit\chm\adSplit.chm
Compile time: 0 minutes, 0 seconds
12	Topics
28	Local links
0	Internet links
1	Graphic
Created e:\biocbld\bbs-2.1-bioc\meat\adSplit\chm\adSplit.chm, 28,392 bytes
Compression decreased file by 7,002 bytes.
  adding MD5 sums
* DONE (adSplit)
* creating vignettes ... OK
* cleaning src
* removing junk files
* checking for LF line-endings in source and make files
* checking for empty or unneeded directories
* building 'adSplit_1.8.0.tar.gz'