Back to the "Multiple platform build/check report"
| Package 82/234 | Hostname | OS | Arch | BUILD | CHECK | BUILD BIN | 
| GeneSpring 2.12.0 Thon de Boer Last Changed Date: 2007-10-02 17:41:09 -0700 Last Changed Rev: 27709  | lamb1 | Linux (SUSE 10.1) | x86_64 | OK | OK | |
| wellington | Linux (SUSE 9.2) | i686 | OK | OK | ||
| liverpool | Windows Server 2003 R2 (32-bit) | x64 | OK | OK | OK | |
| pitt | Mac OS X (10.4.10) | i386 | OK | OK | [ OK ] | 
| Package: GeneSpring | 
| Version: 2.12.0 | 
| Command: /Users/biocbuild/BBS/utils/build-universal.sh GeneSpring_2.12.0.tar.gz /Library/Frameworks/R.framework/Resources/bin/R GeneSpring.buildbin-libdir | 
| RetCode: 0 | 
| Time: 4.8 seconds | 
| Status: OK | 
| PackageFile: GeneSpring_2.12.0.tgz | 
                    INSTALLATION WITH 'R CMD INSTALL GeneSpring_2.12.0.tar.gz'
* Installing to library 'GeneSpring.buildbin-libdir'
* Installing *source* package 'GeneSpring' ...
** R
** inst
** preparing package for lazy loading
Loading required package: Biobase
Loading required package: tools
Welcome to Bioconductor
  Vignettes contain introductory material. To view, type
  'openVignette()'. To cite Bioconductor, see
  'citation("Biobase")' and for packages 'citation(pkgname)'.
** help
Note: unmatched right brace in 'GSload.exp' on or after line 76
 >>> Building/Updating help pages for package 'GeneSpring'
     Formats: text html latex example 
  GSint                             text    html    latex   example
  GSint2BC                          text    html    latex   example
  GSload.exp                        text    html    latex   example
  GSload.genelist                   text    html    latex   example
  GSload.int                        text    html    latex   example
  GSsave.exp                        text    html    latex   example
** building package indices ...
* DONE (GeneSpring)