Back to the "Multiple platform build/check report"
| Package 23/234 | Hostname | OS | Arch | BUILD | CHECK | BUILD BIN | 
| arrayMagic 1.16.0 Andreas Buness Last Changed Date: 2007-10-02 17:41:09 -0700 Last Changed Rev: 27709  | lamb1 | Linux (SUSE 10.1) | x86_64 | OK | OK | |
| wellington | Linux (SUSE 9.2) | i686 | OK | OK | ||
| liverpool | Windows Server 2003 R2 (32-bit) | x64 | [ OK ] | OK | OK | |
| pitt | Mac OS X (10.4.10) | i386 | OK | OK | OK | 
| Package: arrayMagic | 
| Version: 1.16.0 | 
| Command: E:\biocbld\bbs-2.1-bioc\R\bin\R.exe CMD build arrayMagic | 
| RetCode: 0 | 
| Time: 94.5 seconds | 
| Status: OK | 
| PackageFile: arrayMagic_1.16.0.tar.gz | 
* checking for file 'arrayMagic/DESCRIPTION' ... OK
* preparing 'arrayMagic':
* checking DESCRIPTION meta-information ... OK
* installing the package to re-build vignettes
installing R.css in E:/biocbld/bbs-2.1-bioc/tmpdir/Rinst532075085
---------- Making package arrayMagic ------------
  adding build stamp to DESCRIPTION
  installing R files
  installing inst files
  preparing package arrayMagic for lazy loading
Loading required package: Biobase
Loading required package: tools
Welcome to Bioconductor
  Vignettes contain introductory material. To view, type
  'openVignette()'. To cite Bioconductor, see
  'citation("Biobase")' and for packages 'citation(pkgname)'.
Loading required package: vsn
Loading required package: affy
Loading required package: affyio
Loading required package: preprocessCore
Loading required package: limma
Loading required package: genefilter
Loading required package: survival
Loading required package: splines
  installing man source files
  installing indices
  installing help
Note: unmatched right brace in 'readpDataSlides' on or after line 63
Note: unmatched right brace in 'readpDataSlides.Rd' on or after line 63
 >>> Building/Updating help pages for package 'arrayMagic'
     Formats: text html latex example chm 
  arrayData-class                   text    html    latex   example chm
  cbind.arrayData                   text    html    latex   example chm
  cbind.exprSetRG                   text    html    latex   example chm
  colCors                           text    html    latex   example chm
  controlledApply                   text    html    latex   example chm
  controlledSubsetting              text    html    latex   example chm
  detectReplicas                    text    html    latex   example chm
  exprSetRG-class                   text    html    latex   example chm
  fdc                               text    html    latex   example chm
  interweave                        text    html    latex   example chm
  normalise                         text    html    latex   example chm
  plot.imageMatrix                  text    html    latex   example chm
  plotDistributions                 text    html    latex   example chm
  processArrayData                  text    html    latex   example chm
  processArrayDataObject            text    html    latex   example chm
  qualityDiagnostics                text    html    latex   example chm
  qualityParameters                 text    html    latex   example chm
  readIntensities                   text    html    latex   example chm
  readpDataSlides                   text    html    latex   example chm
  removeSpots                       text    html    latex   example chm
  simpleApply                       text    html    latex   example chm
  slideMerge                        text    html    latex   example chm
  spatialLayout                     text    html    latex   example chm
  spotMerge                         text    html    latex   example chm
  visualiseHybridisations           text    html    latex   example chm
  visualiseQualityParameters        text    html    latex   example chm
  write.htmltable                   text    html    latex   example chm
  writeToFile                       text    html    latex   example chm
Microsoft HTML Help Compiler 4.74.8702
Compiling e:\biocbld\bbs-2.1-bioc\meat\arrayMagic\chm\arrayMagic.chm
Compile time: 0 minutes, 1 second
29	Topics
247	Local links
1	Internet link
1	Graphic
Created e:\biocbld\bbs-2.1-bioc\meat\arrayMagic\chm\arrayMagic.chm, 71,853 bytes
Compression decreased file by 101,848 bytes.
  adding MD5 sums
* DONE (arrayMagic)
* creating vignettes ... OK
* removing junk files
* checking for LF line-endings in source and make files
* checking for empty or unneeded directories
* building 'arrayMagic_1.16.0.tar.gz'