Back to the "Multiple platform build/check report"
| Package 139/234 | Hostname | OS | Arch | BUILD | CHECK | BUILD BIN | 
| MLInterfaces 1.12.0 V. Carey Last Changed Date: 2007-10-02 17:41:09 -0700 Last Changed Rev: 27709  | lamb1 | Linux (SUSE 10.1) | x86_64 | OK | OK | |
| wellington | Linux (SUSE 9.2) | i686 | OK | OK | ||
| liverpool | Windows Server 2003 R2 (32-bit) | x64 | OK | OK | OK | |
| pitt | Mac OS X (10.4.10) | i386 | OK | OK | [ OK ] | 
| Package: MLInterfaces | 
| Version: 1.12.0 | 
| Command: /Users/biocbuild/BBS/utils/build-universal.sh MLInterfaces_1.12.0.tar.gz /Library/Frameworks/R.framework/Resources/bin/R MLInterfaces.buildbin-libdir | 
| RetCode: 0 | 
| Time: 15.3 seconds | 
| Status: OK | 
| PackageFile: MLInterfaces_1.12.0.tgz | 
                    INSTALLATION WITH 'R CMD INSTALL MLInterfaces_1.12.0.tar.gz'
* Installing to library 'MLInterfaces.buildbin-libdir'
* Installing *source* package 'MLInterfaces' ...
** R
** inst
** preparing package for lazy loading
Loading required package: Biobase
Loading required package: tools
Welcome to Bioconductor
  Vignettes contain introductory material. To view, type
  'openVignette()'. To cite Bioconductor, see
  'citation("Biobase")' and for packages 'citation(pkgname)'.
Loading required package: MASS
Loading required package: genefilter
Loading required package: survival
Loading required package: splines
Loading required package: rpart
Loading required package: rda
** help
 >>> Building/Updating help pages for package 'MLInterfaces'
     Formats: text html latex example 
  Kfold                             text    html    latex   example
  MLIclust                          text    html    latex   example
  MLIntInternals                    text    html    latex   example
  MLearn-methods                    text    html    latex   example
  MLearn-new                        text    html    latex   example
  RAB                               text    html    latex   example
  SOMB                              text    html    latex   example
  balKfold.xvspec                   text    html    latex   example
  classifOutput-class               text    html    latex   example
  classifierOutput-class            text    html    latex   example
  clustOutput-class                 text    html    latex   example
  confuMat-methods                  text    html    latex   example
  knnB                              text    html    latex   example
  learnerSchema-class               text    html    latex   example
  planarPlot-methods                text    html    latex   example
  raboostCont-class                 text    html    latex   example
  varImpStruct-class                text    html    latex   example
  xval-methods                      text    html    latex   example
  xvalLoop-methods                  text    html    latex
  xvalLoop                          text    html    latex   example
** building package indices ...
* DONE (MLInterfaces)