Back to the "Multiple platform build/check report"
| Package 111/234 | Hostname | OS | Arch | BUILD | CHECK | BUILD BIN | 
| lapmix 1.4.0 Yann Ruffieux Last Changed Date: 2007-10-02 17:41:09 -0700 Last Changed Rev: 27709  | lamb1 | Linux (SUSE 10.1) | x86_64 | OK | OK | |
| wellington | Linux (SUSE 9.2) | i686 | OK | OK | ||
| liverpool | Windows Server 2003 R2 (32-bit) | x64 | [ OK ] | OK | OK | |
| pitt | Mac OS X (10.4.10) | i386 | OK | OK | OK | 
| Package: lapmix | 
| Version: 1.4.0 | 
| Command: E:\biocbld\bbs-2.1-bioc\R\bin\R.exe CMD build lapmix | 
| RetCode: 0 | 
| Time: 20.8 seconds | 
| Status: OK | 
| PackageFile: lapmix_1.4.0.tar.gz | 
* checking for file 'lapmix/DESCRIPTION' ... OK
* preparing 'lapmix':
* checking DESCRIPTION meta-information ... OK
* checking whether 'INDEX' is up-to-date ... NO
* use '--force' to overwrite the existing 'INDEX'
* installing the package to re-build vignettes
installing R.css in E:/biocbld/bbs-2.1-bioc/tmpdir/Rinst87603793
---------- Making package lapmix ------------
  adding build stamp to DESCRIPTION
  installing R files
  installing inst files
  installing man source files
  installing indices
  installing help
 >>> Building/Updating help pages for package 'lapmix'
     Formats: text html latex example chm 
  lap.volcanoplot                   text    html    latex   example chm
  lapmix-internal                   text    html    latex           chm
  lapmix.Fit                        text    html    latex   example chm
  laptopTable                       text    html    latex   example chm
Microsoft HTML Help Compiler 4.74.8702
Compiling e:\biocbld\bbs-2.1-bioc\meat\lapmix\chm\lapmix.chm
Compile time: 0 minutes, 0 seconds
5	Topics
7	Local links
0	Internet links
1	Graphic
Created e:\biocbld\bbs-2.1-bioc\meat\lapmix\chm\lapmix.chm, 22,007 bytes
Compression increased file by 4,065 bytes.
  adding MD5 sums
* DONE (lapmix)
* creating vignettes ... OK
* removing junk files
* checking for LF line-endings in source and make files
* checking for empty or unneeded directories
* building 'lapmix_1.4.0.tar.gz'