Back to the "Multiple platform build/check report"
| Package 194/234 | Hostname | OS | Arch | BUILD | CHECK | BUILD BIN | 
| RSNPper 1.12.0 VJ Carey Last Changed Date: 2007-10-02 17:41:09 -0700 Last Changed Rev: 27709  | lamb1 | Linux (SUSE 10.1) | x86_64 | OK | OK | |
| wellington | Linux (SUSE 9.2) | i686 | OK | OK | ||
| liverpool | Windows Server 2003 R2 (32-bit) | x64 | OK | OK | OK | |
| pitt | Mac OS X (10.4.10) | i386 | OK | OK | [ OK ] | 
| Package: RSNPper | 
| Version: 1.12.0 | 
| Command: /Users/biocbuild/BBS/utils/build-universal.sh RSNPper_1.12.0.tar.gz /Library/Frameworks/R.framework/Resources/bin/R RSNPper.buildbin-libdir | 
| RetCode: 0 | 
| Time: 2.8 seconds | 
| Status: OK | 
| PackageFile: RSNPper_1.12.0.tgz | 
                    INSTALLATION WITH 'R CMD INSTALL RSNPper_1.12.0.tar.gz'
* Installing to library 'RSNPper.buildbin-libdir'
* Installing *source* package 'RSNPper' ...
** R
** inst
** help
 >>> Building/Updating help pages for package 'RSNPper'
     Formats: text html latex example 
  SNPperMeta-class                  text    html    latex   example
  geneInfo                          text    html    latex   example
** building package indices ...
* DONE (RSNPper)